BEGIN:VCALENDAR
VERSION:2.0
PRODID:-//radargolf - ECPv6.15.14//NONSGML v1.0//EN
CALSCALE:GREGORIAN
METHOD:PUBLISH
X-WR-CALNAME:radargolf
X-ORIGINAL-URL:https://radargolf.es
X-WR-CALDESC:Eventos para radargolf
REFRESH-INTERVAL;VALUE=DURATION:PT1H
X-Robots-Tag:noindex
X-PUBLISHED-TTL:PT1H
BEGIN:VTIMEZONE
TZID:Europe/Madrid
BEGIN:DAYLIGHT
TZOFFSETFROM:+0100
TZOFFSETTO:+0200
TZNAME:CEST
DTSTART:20250330T010000
END:DAYLIGHT
BEGIN:STANDARD
TZOFFSETFROM:+0200
TZOFFSETTO:+0100
TZNAME:CET
DTSTART:20251026T010000
END:STANDARD
BEGIN:DAYLIGHT
TZOFFSETFROM:+0100
TZOFFSETTO:+0200
TZNAME:CEST
DTSTART:20260329T010000
END:DAYLIGHT
BEGIN:STANDARD
TZOFFSETFROM:+0200
TZOFFSETTO:+0100
TZNAME:CET
DTSTART:20261025T010000
END:STANDARD
BEGIN:DAYLIGHT
TZOFFSETFROM:+0100
TZOFFSETTO:+0200
TZNAME:CEST
DTSTART:20270328T010000
END:DAYLIGHT
BEGIN:STANDARD
TZOFFSETFROM:+0200
TZOFFSETTO:+0100
TZNAME:CET
DTSTART:20271031T010000
END:STANDARD
END:VTIMEZONE
BEGIN:VEVENT
DTSTART;VALUE=DATE:20260427
DTEND;VALUE=DATE:20260428
DTSTAMP:20260426T062359
CREATED:20250715T224948Z
LAST-MODIFIED:20260415T224654Z
UID:35798-1777248000-1777334399@radargolf.es
SUMMARY:Circuito Woman Golf Summum en La Herrería Golf (Madrid)
DESCRIPTION:
URL:https://radargolf.es/event/circuito-woman-golf-summum-en-la-herreria-golf-madrid/
LOCATION:LA HERRERÍA GOLF
CATEGORIES:OTRAS COMUNIDADES,TORNEOS MADRID
END:VEVENT
BEGIN:VEVENT
DTSTART;VALUE=DATE:20260428
DTEND;VALUE=DATE:20260429
DTSTAMP:20260426T062359
CREATED:20230829T212545Z
LAST-MODIFIED:20260407T214222Z
UID:18566-1777334400-1777420799@radargolf.es
SUMMARY:Torneo AGFCB en Vistabella Golf (Alicante)
DESCRIPTION:
URL:https://radargolf.es/event/torneo-agfcb-en-vistabella-golf-alicante/
LOCATION:VISTABELLA GOLF
CATEGORIES:OTRAS COMUNIDADES,TORNEOS ALICANTE,TORNEOS C. VALENCIANA
END:VEVENT
BEGIN:VEVENT
DTSTART;VALUE=DATE:20260428
DTEND;VALUE=DATE:20260429
DTSTAMP:20260426T062359
CREATED:20230324T100448Z
LAST-MODIFIED:20260322T221826Z
UID:13642-1777334400-1777420799@radargolf.es
SUMMARY:XVII Liga Ladies en La Galera Golf (Valladolid)
DESCRIPTION:
URL:https://radargolf.es/event/xvii-liga-ladies-en-la-galera-golf-valladolid/
LOCATION:LA GALERA GOLF
CATEGORIES:OTRAS COMUNIDADES,TORNEOS CASTILLA Y LEÓN,TORNEOS VALLADOLID
END:VEVENT
BEGIN:VEVENT
DTSTART;VALUE=DATE:20260428
DTEND;VALUE=DATE:20260429
DTSTAMP:20260426T062359
CREATED:20230325T003114Z
LAST-MODIFIED:20260404T200539Z
UID:13678-1777334400-1777420799@radargolf.es
SUMMARY:Eagle Costa Brava en Golf Costa Brava (Girona)
DESCRIPTION:
URL:https://radargolf.es/event/eagle-costa-brava-en-golf-costa-brava-girona-2/
LOCATION:GOLF COSTA BRAVA
CATEGORIES:OTRAS COMUNIDADES,TORNEOS CATALUÑA,TORNEOS GIRONA
END:VEVENT
BEGIN:VEVENT
DTSTART;VALUE=DATE:20260430
DTEND;VALUE=DATE:20260504
DTSTAMP:20260426T062359
CREATED:20260329T093358Z
LAST-MODIFIED:20260329T093358Z
UID:42435-1777507200-1777852799@radargolf.es
SUMMARY:I Open Fuerteventura en Jandía Golf (Fuerteventura)
DESCRIPTION:
URL:https://radargolf.es/event/i-open-fuerteventura-en-jandia-golf-fuerteventura/
LOCATION:JANDÍA GOLF
CATEGORIES:TORNEOS CANARIAS
END:VEVENT
BEGIN:VEVENT
DTSTART;VALUE=DATE:20260501
DTEND;VALUE=DATE:20260502
DTSTAMP:20260426T062359
CREATED:20221109T181850Z
LAST-MODIFIED:20260422T221122Z
UID:9383-1777593600-1777679999@radargolf.es
SUMMARY:Torneo Puente de Mayo en Naturávila Golf (Ávila)
DESCRIPTION:
URL:https://radargolf.es/event/torneo-puente-de-mayo-en-naturavila-golf-avila/
LOCATION:NATURÁVILA GOLF
CATEGORIES:OTRAS COMUNIDADES,TORNEOS ÁVILA,TORNEOS CASTILLA Y LEÓN
END:VEVENT
BEGIN:VEVENT
DTSTART;VALUE=DATE:20260501
DTEND;VALUE=DATE:20260502
DTSTAMP:20260426T062359
CREATED:20230112T073632Z
LAST-MODIFIED:20260404T181351Z
UID:10867-1777593600-1777679999@radargolf.es
SUMMARY:Torneo EspritGolf en Lauro Golf (Málaga)
DESCRIPTION:  \n 
URL:https://radargolf.es/event/torneo-espritgolf-en-lauro-golf-malaga/
LOCATION:LAURO GOLF
CATEGORIES:ANDALUCÍA,TORNEOS MÁLAGA
END:VEVENT
BEGIN:VEVENT
DTSTART;VALUE=DATE:20260501
DTEND;VALUE=DATE:20260502
DTSTAMP:20260426T062359
CREATED:20230223T111700Z
LAST-MODIFIED:20260226T111300Z
UID:12445-1777593600-1777679999@radargolf.es
SUMMARY:Torneo Golf Divino by Le Club en Valdecañas Golf (Cáceres)
DESCRIPTION:  \n  \n 
URL:https://radargolf.es/event/torneo-golf-divino-by-le-club-en-valdecanas-golf-caceres/
LOCATION:GOLF VALDECAÑAS
CATEGORIES:OTRAS COMUNIDADES,TORNEOS CÁCERES,TORNEOS EXTREMADURA
END:VEVENT
BEGIN:VEVENT
DTSTART;VALUE=DATE:20260501
DTEND;VALUE=DATE:20260502
DTSTAMP:20260426T062359
CREATED:20240119T232135Z
LAST-MODIFIED:20260422T221510Z
UID:22406-1777593600-1777679999@radargolf.es
SUMMARY:Circuito Locos por el Golf en Foressos Golf (Valencia)
DESCRIPTION:
URL:https://radargolf.es/event/circuito-locos-por-el-golf-en-foressos-golf-valencia-2/
LOCATION:FORESSOS GOLF
CATEGORIES:OTRAS COMUNIDADES,TORNEOS C. VALENCIANA,TORNEOS VALENCIA
END:VEVENT
BEGIN:VEVENT
DTSTART;VALUE=DATE:20260501
DTEND;VALUE=DATE:20260503
DTSTAMP:20260426T062359
CREATED:20230124T105421Z
LAST-MODIFIED:20260117T002553Z
UID:11228-1777593600-1777766399@radargolf.es
SUMMARY:Circuito Corporate Golf en Font del LLop Golf (Alicante)
DESCRIPTION:
URL:https://radargolf.es/event/circuito-corporate-golf-en-font-del-llop-golf-alicante/
LOCATION:FONT DEL LLOP GOLF
CATEGORIES:OTRAS COMUNIDADES,TORNEOS ALICANTE,TORNEOS C. VALENCIANA
END:VEVENT
BEGIN:VEVENT
DTSTART;VALUE=DATE:20260501
DTEND;VALUE=DATE:20260503
DTSTAMP:20260426T062359
CREATED:20230201T224001Z
LAST-MODIFIED:20260404T215514Z
UID:11679-1777593600-1777766399@radargolf.es
SUMMARY:Circuito Match Golf en Torremirona Golf (Girona)
DESCRIPTION:
URL:https://radargolf.es/event/circuito-match-golf-en-torremirona-golf-girona/
LOCATION:TORREMIRONA GOLF
CATEGORIES:OTRAS COMUNIDADES,TORNEOS CATALUÑA,TORNEOS GIRONA
END:VEVENT
BEGIN:VEVENT
DTSTART;VALUE=DATE:20260501
DTEND;VALUE=DATE:20260504
DTSTAMP:20260426T062359
CREATED:20230228T195850Z
LAST-MODIFIED:20260220T151543Z
UID:12577-1777593600-1777852799@radargolf.es
SUMMARY:Circuito Cicagolf Individual & Parejas en Golf La Roca (Barcelona)
DESCRIPTION:
URL:https://radargolf.es/event/circuito-cicagolf-individual-en-golf-la-roca-barcelona/
LOCATION:GOLF LA ROCA
CATEGORIES:OTRAS COMUNIDADES,TORNEOS BARCELONA,TORNEOS CATALUÑA
END:VEVENT
BEGIN:VEVENT
DTSTART;VALUE=DATE:20260501
DTEND;VALUE=DATE:20260504
DTSTAMP:20260426T062359
CREATED:20260214T230007Z
LAST-MODIFIED:20260214T230007Z
UID:41181-1777593600-1777852799@radargolf.es
SUMMARY:Circuito Fortux x Mulligan en Can Rafel Golf (Barcelona)
DESCRIPTION:
URL:https://radargolf.es/event/circuito-fortux-x-mulligan-en-can-rafel-golf-barcelona/
LOCATION:CAN RAFEL GOLF
CATEGORIES:TORNEOS BARCELONA,TORNEOS CATALUÑA
END:VEVENT
BEGIN:VEVENT
DTSTART;VALUE=DATE:20260501
DTEND;VALUE=DATE:20260504
DTSTAMP:20260426T062359
CREATED:20260220T152529Z
LAST-MODIFIED:20260220T152529Z
UID:41352-1777593600-1777852799@radargolf.es
SUMMARY:Circuito CiCaPitch en Empuria Brava Golf (Castellón)
DESCRIPTION:
URL:https://radargolf.es/event/circuito-cicapitch-en-empuria-brava-golf-castellon/
LOCATION:CASTELLÓ – EMPURIABRAVA GOLF
CATEGORIES:TORNEOS C. VALENCIANA,TORNEOS CASTELLÓN
END:VEVENT
BEGIN:VEVENT
DTSTART;VALUE=DATE:20260502
DTEND;VALUE=DATE:20260503
DTSTAMP:20260426T062359
CREATED:20230124T104930Z
LAST-MODIFIED:20260321T014435Z
UID:11222-1777680000-1777766399@radargolf.es
SUMMARY:Circuito Torre de Núñez en Iberik Augas Santas Golf (Lugo)
DESCRIPTION:  \n  \n  \n 
URL:https://radargolf.es/event/circuito-torre-de-nunez-en-iberik-augas-santas-golf-lugo/
LOCATION:GOLF LOMAS-BOSQUE
CATEGORIES:OTRAS COMUNIDADES,TORNEOS GALICIA,TORNEOS LUGO
END:VEVENT
BEGIN:VEVENT
DTSTART;VALUE=DATE:20260502
DTEND;VALUE=DATE:20260503
DTSTAMP:20260426T062359
CREATED:20230223T115334Z
LAST-MODIFIED:20260226T132037Z
UID:12459-1777680000-1777766399@radargolf.es
SUMMARY:Circuito Premium Mahou San Miguel by Gambito Golf en Palomarejos Golf (Toledo)
DESCRIPTION:  \n  \n  \n 
URL:https://radargolf.es/event/circuito-premium-mahou-san-miguel-by-gambito-golf-en-palomarejos-golf-toledo/
LOCATION:PALOMAREJOS GOLF
CATEGORIES:OTRAS COMUNIDADES,TORNEOS CASTILLA LA MANCHA,TORNEOS TOLEDO
END:VEVENT
BEGIN:VEVENT
DTSTART;VALUE=DATE:20260502
DTEND;VALUE=DATE:20260503
DTSTAMP:20260426T062359
CREATED:20230608T165843Z
LAST-MODIFIED:20260415T223731Z
UID:16221-1777680000-1777766399@radargolf.es
SUMMARY:Torneo Lux Inmood Hotels en San Roque Golf (Cádiz)
DESCRIPTION:
URL:https://radargolf.es/event/torneo-lux-inmood-hotels-en-san-roque-golf-cadiz/
LOCATION:SAN ROQUE GOLF
CATEGORIES:ANDALUCÍA,TORNEOS CÁDIZ
END:VEVENT
BEGIN:VEVENT
DTSTART;VALUE=DATE:20260502
DTEND;VALUE=DATE:20260503
DTSTAMP:20260426T062359
CREATED:20230208T095607Z
LAST-MODIFIED:20260404T114202Z
UID:11836-1777680000-1777766399@radargolf.es
SUMMARY:VII Torneo Benéfico Manuel Moreno a favor de AMATE en Los Palos Golf (Tenerife)
DESCRIPTION:Screenshot
URL:https://radargolf.es/event/vii-torneo-benefico-manuel-moreno-a-favor-de-amate-en-los-palos-golf-tenerife/
LOCATION:GOLF LOS PALOS
CATEGORIES:OTRAS COMUNIDADES,TORNEOS CANARIAS
END:VEVENT
BEGIN:VEVENT
DTSTART;VALUE=DATE:20260502
DTEND;VALUE=DATE:20260503
DTSTAMP:20260426T062359
CREATED:20230208T103723Z
LAST-MODIFIED:20260311T163001Z
UID:11899-1777680000-1777766399@radargolf.es
SUMMARY:Circuito Nacional Summum Golf en Logroño Golf (La Rioja)
DESCRIPTION:
URL:https://radargolf.es/event/circuito-nacional-summum-en-logrono-golf-la-rioja/
LOCATION:LOGROÑO GOLF
CATEGORIES:OTRAS COMUNIDADES,TORNEOS LA RIOJA
END:VEVENT
BEGIN:VEVENT
DTSTART;VALUE=DATE:20260502
DTEND;VALUE=DATE:20260503
DTSTAMP:20260426T062359
CREATED:20230301T103602Z
LAST-MODIFIED:20260202T211119Z
UID:12744-1777680000-1777766399@radargolf.es
SUMMARY:Circuito Grupo Soledad Golf en El Saler Golf (Valencia)
DESCRIPTION:  \n 
URL:https://radargolf.es/event/circuito-grupo-soledad-golf-en-el-saler-golf-valencia/
LOCATION:PARADOR SALER GOLF
CATEGORIES:OTRAS COMUNIDADES,TORNEOS C. VALENCIANA,TORNEOS VALENCIA
END:VEVENT
BEGIN:VEVENT
DTSTART;VALUE=DATE:20260502
DTEND;VALUE=DATE:20260503
DTSTAMP:20260426T062359
CREATED:20230304T003938Z
LAST-MODIFIED:20260226T132731Z
UID:12887-1777680000-1777766399@radargolf.es
SUMMARY:Circuito Premium Mahou San Miguel by Gambito Golf en Zuasti Golf (Navarra)
DESCRIPTION:  \n 
URL:https://radargolf.es/event/circuito-premium-mahou-san-miguel-by-gambito-golf-en-zuasti-golf-navarra/
LOCATION:SEÑORÍO DE ZUASTI GOLF
CATEGORIES:OTRAS COMUNIDADES,TORNEOS NAVARRA
END:VEVENT
BEGIN:VEVENT
DTSTART;VALUE=DATE:20260502
DTEND;VALUE=DATE:20260503
DTSTAMP:20260426T062359
CREATED:20250518T214413Z
LAST-MODIFIED:20260415T222622Z
UID:34523-1777680000-1777766399@radargolf.es
SUMMARY:San Miguel Andalucía Golf Challenge by Globalia en Antequera Golf (Málaga)
DESCRIPTION:
URL:https://radargolf.es/event/san-miguel-andalucia-golf-challenge-by-globalia-en-antequera-golf-malaga/
LOCATION:ANTEQUERA GOLF
CATEGORIES:ANDALUCÍA,TORNEOS MÁLAGA
END:VEVENT
BEGIN:VEVENT
DTSTART;VALUE=DATE:20260502
DTEND;VALUE=DATE:20260503
DTSTAMP:20260426T062359
CREATED:20260311T224105Z
LAST-MODIFIED:20260422T220401Z
UID:42047-1777680000-1777766399@radargolf.es
SUMMARY:Circuito 9Tees Golf Challenge en Naturávila Golf (Ávila)
DESCRIPTION:Screenshot
URL:https://radargolf.es/event/circuito-9tees-golf-challenge-en-naturavila-golf-avila/
LOCATION:NATURÁVILA GOLF
CATEGORIES:TORNEOS ÁVILA,TORNEOS CASTILLA Y LEÓN
END:VEVENT
BEGIN:VEVENT
DTSTART;VALUE=DATE:20260503
DTEND;VALUE=DATE:20260504
DTSTAMP:20260426T062359
CREATED:20230124T192212Z
LAST-MODIFIED:20260117T002649Z
UID:11275-1777766400-1777852799@radargolf.es
SUMMARY:Circuito Corporate Golf en Oliva Nova Golf (Valencia)
DESCRIPTION:  \n  \n  \n 
URL:https://radargolf.es/event/circuito-corporate-en-oliva-nova-golf-valencia-2/
LOCATION:OLIVA NOVA GOLF
CATEGORIES:OTRAS COMUNIDADES,TORNEOS C. VALENCIANA,TORNEOS VALENCIA
END:VEVENT
BEGIN:VEVENT
DTSTART;VALUE=DATE:20260503
DTEND;VALUE=DATE:20260504
DTSTAMP:20260426T062359
CREATED:20250220T184127Z
LAST-MODIFIED:20260422T221005Z
UID:32470-1777766400-1777852799@radargolf.es
SUMMARY:I Torneo Benéfico Cudeca en Antequera Golf (Málaga)
DESCRIPTION:
URL:https://radargolf.es/event/i-torneo-benefico-cudeca-en-antequera-golf-malaga/
LOCATION:ANTEQUERA GOLF
CATEGORIES:ANDALUCÍA,TORNEOS MÁLAGA
END:VEVENT
BEGIN:VEVENT
DTSTART;VALUE=DATE:20260503
DTEND;VALUE=DATE:20260504
DTSTAMP:20260426T062359
CREATED:20250805T223351Z
LAST-MODIFIED:20260329T094642Z
UID:36130-1777766400-1777852799@radargolf.es
SUMMARY:Liga 5ª Categoría y Noveles en Aeroclub Vigo Golf (Pontevedra)
DESCRIPTION:
URL:https://radargolf.es/event/liga-5a-categoria-y-noveles-en-aeroclub-vigo-golf-pontevedra/
LOCATION:AEROCLUB VIGO GOLF
CATEGORIES:OTRAS COMUNIDADES,TORNEOS GALICIA,TORNEOS PONTEVEDRA
END:VEVENT
BEGIN:VEVENT
DTSTART;VALUE=DATE:20260503
DTEND;VALUE=DATE:20260504
DTSTAMP:20260426T062359
CREATED:20260120T225750Z
LAST-MODIFIED:20260120T225750Z
UID:40230-1777766400-1777852799@radargolf.es
SUMMARY:Prueba Regional Zona 1 WAGC en Empordá Golf (Girona)
DESCRIPTION:
URL:https://radargolf.es/event/prueba-regional-zona-1-wagc-en-emporda-golf-girona/
LOCATION:EMPORDÁ GOLF
CATEGORIES:OTRAS COMUNIDADES,TORNEOS CATALUÑA,TORNEOS GIRONA
END:VEVENT
BEGIN:VEVENT
DTSTART;VALUE=DATE:20260503
DTEND;VALUE=DATE:20260504
DTSTAMP:20260426T062359
CREATED:20260205T231823Z
LAST-MODIFIED:20260205T231823Z
UID:40933-1777766400-1777852799@radargolf.es
SUMMARY:Liga Golf en Naturávila Golf (Ávila)
DESCRIPTION:
URL:https://radargolf.es/event/liga-golf-en-naturavila-golf-avila-3/
LOCATION:NATURÁVILA GOLF
CATEGORIES:TORNEOS ÁVILA,TORNEOS CASTILLA Y LEÓN
END:VEVENT
BEGIN:VEVENT
DTSTART;VALUE=DATE:20260503
DTEND;VALUE=DATE:20260504
DTSTAMP:20260426T062359
CREATED:20260329T101058Z
LAST-MODIFIED:20260329T101203Z
UID:42495-1777766400-1777852799@radargolf.es
SUMMARY:Liga Femenina en Miño Golf (A Coruña)
DESCRIPTION:Screenshot
URL:https://radargolf.es/event/liga-femenina-en-mino-golf-a-coruna-4/
LOCATION:MIÑO GOLF
CATEGORIES:TORNEOS CORUÑA,TORNEOS GALICIA
END:VEVENT
BEGIN:VEVENT
DTSTART;VALUE=DATE:20260505
DTEND;VALUE=DATE:20260506
DTSTAMP:20260426T062359
CREATED:20230515T180640Z
LAST-MODIFIED:20260407T214310Z
UID:15433-1777939200-1778025599@radargolf.es
SUMMARY:Torneo AGFCB en La Marquesa Golf (Alicante)
DESCRIPTION:  \n  \n 
URL:https://radargolf.es/event/torneo-agfcb-en-la-marquesa-golf-alicante/
LOCATION:LA MARQUESA GOLF
CATEGORIES:OTRAS COMUNIDADES,TORNEOS ALICANTE,TORNEOS C. VALENCIANA
END:VEVENT
END:VCALENDAR