BEGIN:VCALENDAR
VERSION:2.0
PRODID:-//radargolf - ECPv6.15.14//NONSGML v1.0//EN
CALSCALE:GREGORIAN
METHOD:PUBLISH
X-ORIGINAL-URL:https://radargolf.es
X-WR-CALDESC:Eventos para radargolf
REFRESH-INTERVAL;VALUE=DURATION:PT1H
X-Robots-Tag:noindex
X-PUBLISHED-TTL:PT1H
BEGIN:VTIMEZONE
TZID:Europe/Madrid
BEGIN:DAYLIGHT
TZOFFSETFROM:+0100
TZOFFSETTO:+0200
TZNAME:CEST
DTSTART:20240331T010000
END:DAYLIGHT
BEGIN:STANDARD
TZOFFSETFROM:+0200
TZOFFSETTO:+0100
TZNAME:CET
DTSTART:20241027T010000
END:STANDARD
BEGIN:DAYLIGHT
TZOFFSETFROM:+0100
TZOFFSETTO:+0200
TZNAME:CEST
DTSTART:20250330T010000
END:DAYLIGHT
BEGIN:STANDARD
TZOFFSETFROM:+0200
TZOFFSETTO:+0100
TZNAME:CET
DTSTART:20251026T010000
END:STANDARD
BEGIN:DAYLIGHT
TZOFFSETFROM:+0100
TZOFFSETTO:+0200
TZNAME:CEST
DTSTART:20260329T010000
END:DAYLIGHT
BEGIN:STANDARD
TZOFFSETFROM:+0200
TZOFFSETTO:+0100
TZNAME:CET
DTSTART:20261025T010000
END:STANDARD
END:VTIMEZONE
BEGIN:VEVENT
DTSTART;VALUE=DATE:20250725
DTEND;VALUE=DATE:20250726
DTSTAMP:20260421T225803
CREATED:20240226T231317Z
LAST-MODIFIED:20250708T230425Z
UID:23757-1753401600-1753487999@radargolf.es
SUMMARY:Torneo P&P en Amarilla Golf (Tenerife)
DESCRIPTION:
URL:https://radargolf.es/event/torneo-pp-en-amarilla-golf-tenerife/
LOCATION:AMARILLA GOLF
CATEGORIES:OTRAS COMUNIDADES,TORNEOS CANARIAS
END:VEVENT
BEGIN:VEVENT
DTSTART;VALUE=DATE:20250725
DTEND;VALUE=DATE:20250726
DTSTAMP:20260421T225803
CREATED:20240306T001046Z
LAST-MODIFIED:20250306T070602Z
UID:24127-1753401600-1753487999@radargolf.es
SUMMARY:V Torneo Santander Banca Privada Tenerife en Las Américas Golf (Tenerife)
DESCRIPTION:
URL:https://radargolf.es/event/v-torneo-santander-banca-privada-tenerife-en-las-americas-golf-tenerife/
LOCATION:GOLF LAS AMÉRICAS
CATEGORIES:OTRAS COMUNIDADES,TORNEOS CANARIAS
END:VEVENT
BEGIN:VEVENT
DTSTART;VALUE=DATE:20250725
DTEND;VALUE=DATE:20250727
DTSTAMP:20260421T225803
CREATED:20231025T222323Z
LAST-MODIFIED:20250717T220924Z
UID:20190-1753401600-1753574399@radargolf.es
SUMMARY:Cabo Verde Cup en Val de Rois Golf (A Coruña)
DESCRIPTION:
URL:https://radargolf.es/event/cabo-verde-cup-en-val-de-rois-golf-a-coruna/
LOCATION:VAL DE ROIS GOLF
CATEGORIES:OTRAS COMUNIDADES,TORNEOS CORUÑA,TORNEOS GALICIA
END:VEVENT
BEGIN:VEVENT
DTSTART;VALUE=DATE:20250725
DTEND;VALUE=DATE:20250728
DTSTAMP:20260421T225803
CREATED:20230228T205306Z
LAST-MODIFIED:20250608T110317Z
UID:12638-1753401600-1753660799@radargolf.es
SUMMARY:Memorial Javier Benjumea Cabeza de Vaca en Santa Marina Golf (Cantabria)
DESCRIPTION:  \n 
URL:https://radargolf.es/event/memorial-javier-benjumea-cabeza-de-vaca-en-santa-marina-golf-cantabria/
LOCATION:GOLF SANTA MARINA
CATEGORIES:OTRAS COMUNIDADES,TORNEOS CANTABRIA
END:VEVENT
BEGIN:VEVENT
DTSTART;VALUE=DATE:20250725
DTEND;VALUE=DATE:20250728
DTSTAMP:20260421T225803
CREATED:20240903T051406Z
LAST-MODIFIED:20250715T233512Z
UID:29116-1753401600-1753660799@radargolf.es
SUMMARY:XVII Torneo Concello de Sarria en Pilar-Sarria Golf (Lugo)
DESCRIPTION:
URL:https://radargolf.es/event/xvii-torneo-concello-de-sarria-en-pilar-sarria-golf-lugo/
LOCATION:EL PILAR SARRIA GOLF
CATEGORIES:OTRAS COMUNIDADES,TORNEOS GALICIA,TORNEOS LUGO
END:VEVENT
BEGIN:VEVENT
DTSTART;VALUE=DATE:20250726
DTEND;VALUE=DATE:20250727
DTSTAMP:20260421T225803
CREATED:20230516T112832Z
LAST-MODIFIED:20250608T223154Z
UID:15491-1753488000-1753574399@radargolf.es
SUMMARY:XXIX Trofeo El Comercio Abanca en La Morgal Golf (Asturias)
DESCRIPTION:
URL:https://radargolf.es/event/xxix-trofeo-el-comercio-abanca-en-la-morgal-golf-asturias/
LOCATION:LA MORGAL GOLF
CATEGORIES:OTRAS COMUNIDADES,TORNEOS ASTURIAS
END:VEVENT
BEGIN:VEVENT
DTSTART;VALUE=DATE:20250726
DTEND;VALUE=DATE:20250727
DTSTAMP:20260421T225803
CREATED:20230729T221929Z
LAST-MODIFIED:20250622T184401Z
UID:17689-1753488000-1753574399@radargolf.es
SUMMARY:Torneo XXXIX Aniversario Segregación Pilar de La Horadada en Lo Romero Golf (Alicante)
DESCRIPTION:
URL:https://radargolf.es/event/torneo-xxxix-aniversario-segregacion-pilar-de-la-horadada-en-lo-romero-golf-alicante/
LOCATION:LO ROMERO GOLF
CATEGORIES:OTRAS COMUNIDADES,TORNEOS ALICANTE,TORNEOS C. VALENCIANA
END:VEVENT
BEGIN:VEVENT
DTSTART;VALUE=DATE:20250726
DTEND;VALUE=DATE:20250727
DTSTAMP:20260421T225803
CREATED:20230811T214841Z
LAST-MODIFIED:20250611T231043Z
UID:18086-1753488000-1753574399@radargolf.es
SUMMARY:Torneo Green Solidario Iniciativa Solidaria Fundación Vicente Ferrer en Guadalhorce Golf (Málaga)
DESCRIPTION:
URL:https://radargolf.es/event/torneo-green-solidario-iniciativa-solidaria-fundacion-vicente-ferrer-en-guadalhorce-golf-malaga/
LOCATION:GUADALHORCE GOLF
CATEGORIES:ANDALUCÍA,TORNEOS MÁLAGA
END:VEVENT
BEGIN:VEVENT
DTSTART;VALUE=DATE:20250726
DTEND;VALUE=DATE:20250727
DTSTAMP:20260421T225803
CREATED:20230911T201957Z
LAST-MODIFIED:20250725T230957Z
UID:18942-1753488000-1753574399@radargolf.es
SUMMARY:XXVIII Torneo Fiestas de la Magdalena en LLanes Golf (Asturias)
DESCRIPTION:
URL:https://radargolf.es/event/xxviii-torneo-fiestas-de-la-magdalena-en-llanes-golf-asturias/
LOCATION:LLANES GOLF
CATEGORIES:OTRAS COMUNIDADES,TORNEOS ASTURIAS
END:VEVENT
BEGIN:VEVENT
DTSTART;VALUE=DATE:20250726
DTEND;VALUE=DATE:20250727
DTSTAMP:20260421T225803
CREATED:20240420T224325Z
LAST-MODIFIED:20250720T002959Z
UID:25538-1753488000-1753574399@radargolf.es
SUMMARY:Torneo Junior Fundación José Banús y Pilar Calvo en Aloha Golf (Málaga)
DESCRIPTION:  \n  \n 
URL:https://radargolf.es/event/torneo-junior-fundacion-jose-banus-y-pilar-calvo-en-aloha-golf-malaga/
LOCATION:ALOHA GOLF
CATEGORIES:ANDALUCÍA,TORNEOS MÁLAGA
END:VEVENT
BEGIN:VEVENT
DTSTART;VALUE=DATE:20250726
DTEND;VALUE=DATE:20250727
DTSTAMP:20260421T225803
CREATED:20230110T162214Z
LAST-MODIFIED:20250717T221052Z
UID:10762-1753488000-1753574399@radargolf.es
SUMMARY:Torneo MongoVerd en La Sella Golf (Alicante)
DESCRIPTION:
URL:https://radargolf.es/event/torneo-mongoverd-en-la-sella-golf-alicante/
LOCATION:LA SELLA GOLF
CATEGORIES:OTRAS COMUNIDADES,TORNEOS ALICANTE,TORNEOS C. VALENCIANA
END:VEVENT
BEGIN:VEVENT
DTSTART;VALUE=DATE:20250726
DTEND;VALUE=DATE:20250727
DTSTAMP:20260421T225803
CREATED:20230110T172407Z
LAST-MODIFIED:20250717T221844Z
UID:10793-1753488000-1753574399@radargolf.es
SUMMARY:VIII Trofeo Lexus en Parador de Golf (Málaga)
DESCRIPTION:  \n 
URL:https://radargolf.es/event/viii-trofeo-lexus-en-parador-de-golf-malaga/
LOCATION:PARADOR MALAGA GOLF
CATEGORIES:ANDALUCÍA,TORNEOS MÁLAGA
END:VEVENT
BEGIN:VEVENT
DTSTART;VALUE=DATE:20250726
DTEND;VALUE=DATE:20250727
DTSTAMP:20260421T225803
CREATED:20230625T204649Z
LAST-MODIFIED:20250209T183711Z
UID:16715-1753488000-1753574399@radargolf.es
SUMMARY:Torneo Golf BS en Las Ramblas Golf (Alicante)
DESCRIPTION:
URL:https://radargolf.es/event/torneo-golf-bs-en-las-ramblas-golf-alicante/
LOCATION:LAS RAMBLAS GOLF
CATEGORIES:OTRAS COMUNIDADES,TORNEOS ALICANTE,TORNEOS C. VALENCIANA
END:VEVENT
BEGIN:VEVENT
DTSTART;VALUE=DATE:20250726
DTEND;VALUE=DATE:20250727
DTSTAMP:20260421T225803
CREATED:20250508T162612Z
LAST-MODIFIED:20250715T231656Z
UID:34326-1753488000-1753574399@radargolf.es
SUMMARY:IV Torneo Tomate Huevo de Toro en Alhaurín Golf (Málaga)
DESCRIPTION:
URL:https://radargolf.es/event/iv-torneo-tomate-huevo-de-toro-en-alhaurin-golf-malaga/
LOCATION:ALHAURÍN GOLF
CATEGORIES:ANDALUCÍA,TORNEOS MÁLAGA
END:VEVENT
BEGIN:VEVENT
DTSTART;VALUE=DATE:20250726
DTEND;VALUE=DATE:20250727
DTSTAMP:20260421T225803
CREATED:20250602T223135Z
LAST-MODIFIED:20250602T223135Z
UID:34863-1753488000-1753574399@radargolf.es
SUMMARY:Torneo Proshop\, Caddies & Greenkeepers Revenge en Valle del Este Golf (Almería)
DESCRIPTION:
URL:https://radargolf.es/event/torneo-proshop-caddies-greenkeepers-revenge-en-valle-del-este-golf-almeria/
LOCATION:VALLE DEL ESTE GOLF
CATEGORIES:ANDALUCÍA,TORNEOS ALMERÍA
END:VEVENT
BEGIN:VEVENT
DTSTART;VALUE=DATE:20250727
DTEND;VALUE=DATE:20250728
DTSTAMP:20260421T225803
CREATED:20230307T192351Z
LAST-MODIFIED:20250306T070913Z
UID:13045-1753574400-1753660799@radargolf.es
SUMMARY:Chinyeros Society Tour en Las Américas Golf (Tenerife)
DESCRIPTION:
URL:https://radargolf.es/event/chinyeros-society-tour-en-las-americas-golf-tenerife/
LOCATION:GOLF LAS AMÉRICAS
CATEGORIES:OTRAS COMUNIDADES,TORNEOS CANARIAS
END:VEVENT
BEGIN:VEVENT
DTSTART;VALUE=DATE:20250727
DTEND;VALUE=DATE:20250728
DTSTAMP:20260421T225803
CREATED:20250725T231119Z
LAST-MODIFIED:20250725T231119Z
UID:35998-1753574400-1753660799@radargolf.es
SUMMARY:XXVIII Torneo Fiestas de la Magdalena en Aldama Golf (Asturias)
DESCRIPTION:
URL:https://radargolf.es/event/xxviii-torneo-fiestas-de-la-magdalena-en-aldama-golf-asturias/
LOCATION:ALDAMA GOLF
CATEGORIES:OTRAS COMUNIDADES,TORNEOS ASTURIAS
END:VEVENT
BEGIN:VEVENT
DTSTART;VALUE=DATE:20250801
DTEND;VALUE=DATE:20250802
DTSTAMP:20260421T225803
CREATED:20240318T070355Z
LAST-MODIFIED:20250706T224029Z
UID:24486-1754006400-1754092799@radargolf.es
SUMMARY:IV Torneo del Golf Contra el Cáncer en Aloha Golf (Málaga)
DESCRIPTION:
URL:https://radargolf.es/event/iv-torneo-del-golf-contra-el-cancer-en-aloha-golf-malaga/
LOCATION:ALOHA GOLF
CATEGORIES:ANDALUCÍA,TORNEOS MÁLAGA
END:VEVENT
BEGIN:VEVENT
DTSTART;VALUE=DATE:20250801
DTEND;VALUE=DATE:20250803
DTSTAMP:20260421T225803
CREATED:20230516T124110Z
LAST-MODIFIED:20250731T224058Z
UID:15507-1754006400-1754179199@radargolf.es
SUMMARY:IV Copa Celia Barquín en LLanes Golf (Asturias)
DESCRIPTION:
URL:https://radargolf.es/event/iv-copa-celia-barquin-en-llanes-golf-asturias/
LOCATION:LLANES GOLF
CATEGORIES:OTRAS COMUNIDADES,TORNEOS ASTURIAS
END:VEVENT
BEGIN:VEVENT
DTSTART;VALUE=DATE:20250801
DTEND;VALUE=DATE:20250803
DTSTAMP:20260421T225803
CREATED:20240508T160057Z
LAST-MODIFIED:20250627T235805Z
UID:26206-1754006400-1754179199@radargolf.es
SUMMARY:VII ProAm Juan Jiménez en Miguel Ángel Jiménez Golf Academy (Málaga)
DESCRIPTION:
URL:https://radargolf.es/event/vii-proam-juan-jimenez-en-miguel-angel-jimenez-golf-academy-malaga/
LOCATION:MIGUEL ÁNGEL JIMÉNEZ GOLF ACADEMY
CATEGORIES:ANDALUCÍA,TORNEOS MÁLAGA
END:VEVENT
BEGIN:VEVENT
DTSTART;VALUE=DATE:20250802
DTEND;VALUE=DATE:20250803
DTSTAMP:20260421T225803
CREATED:20221118T145302Z
LAST-MODIFIED:20250625T000000Z
UID:9771-1754092800-1754179199@radargolf.es
SUMMARY:Torneo Pro Shop en Islantilla Golf (Huelva)
DESCRIPTION:
URL:https://radargolf.es/event/torneo-pro-shop-en-islantilla-golf-huelva/
LOCATION:ISLANTILLA GOLF
CATEGORIES:ANDALUCÍA,TORNEOS HUELVA
END:VEVENT
BEGIN:VEVENT
DTSTART;VALUE=DATE:20250802
DTEND;VALUE=DATE:20250803
DTSTAMP:20260421T225803
CREATED:20230208T100939Z
LAST-MODIFIED:20250715T232821Z
UID:11858-1754092800-1754179199@radargolf.es
SUMMARY:Torneo Parejas de Las Lamentaciones en Aguilón Golf (Almería)
DESCRIPTION:
URL:https://radargolf.es/event/torneo-parejas-de-las-lamentaciones-en-aguilon-golf-almeria/
LOCATION:AGUILÓN GOLF
CATEGORIES:ANDALUCÍA,TORNEOS ALMERÍA
END:VEVENT
BEGIN:VEVENT
DTSTART;VALUE=DATE:20250802
DTEND;VALUE=DATE:20250803
DTSTAMP:20260421T225803
CREATED:20230228T212955Z
LAST-MODIFIED:20250715T224012Z
UID:12694-1754092800-1754179199@radargolf.es
SUMMARY:III Torneo Residencial Bonalba en Bonalba Golf (Alicante)
DESCRIPTION:
URL:https://radargolf.es/event/iii-torneo-residencial-bonalba-en-bonalba-golf-alicante/
LOCATION:BONALBA GOLF
CATEGORIES:OTRAS COMUNIDADES,TORNEOS ALICANTE,TORNEOS C. VALENCIANA
END:VEVENT
BEGIN:VEVENT
DTSTART;VALUE=DATE:20250802
DTEND;VALUE=DATE:20250803
DTSTAMP:20260421T225803
CREATED:20240209T093140Z
LAST-MODIFIED:20250720T005853Z
UID:23197-1754092800-1754179199@radargolf.es
SUMMARY:Torneo Dobles Femenino en Zarauz Golf (Guipúzcoa)
DESCRIPTION:
URL:https://radargolf.es/event/torneo-dobles-senoras-en-zarauz-golf-guipuzcoa/
LOCATION:ZARAUZ GOLF
CATEGORIES:OTRAS COMUNIDADES,TORNEOS GUIPÚZCOA,TORNEOS PAIS VASCO
END:VEVENT
BEGIN:VEVENT
DTSTART;VALUE=DATE:20250802
DTEND;VALUE=DATE:20250804
DTSTAMP:20260421T225803
CREATED:20240217T002034Z
LAST-MODIFIED:20250715T233544Z
UID:23433-1754092800-1754265599@radargolf.es
SUMMARY:XVII Torneo Concello de Sarria en Pilar-Sarria Golf (Lugo)
DESCRIPTION:
URL:https://radargolf.es/event/xvii-torneo-concello-de-sarria-en-pilar-sarria-golf-lugo-2/
LOCATION:EL PILAR SARRIA GOLF
CATEGORIES:OTRAS COMUNIDADES,TORNEOS GALICIA,TORNEOS LUGO
END:VEVENT
BEGIN:VEVENT
DTSTART;VALUE=DATE:20250803
DTEND;VALUE=DATE:20250804
DTSTAMP:20260421T225803
CREATED:20240209T093054Z
LAST-MODIFIED:20250720T010031Z
UID:23195-1754179200-1754265599@radargolf.es
SUMMARY:Torneo Dobles Masculino en Zarauz Golf (Guipúzcoa)
DESCRIPTION:
URL:https://radargolf.es/event/torneo-dobles-masculino-en-zarauz-golf-guipuzcoa/
LOCATION:ZARAUZ GOLF
CATEGORIES:OTRAS COMUNIDADES,TORNEOS GUIPÚZCOA,TORNEOS PAIS VASCO
END:VEVENT
BEGIN:VEVENT
DTSTART;VALUE=DATE:20250804
DTEND;VALUE=DATE:20250806
DTSTAMP:20260421T225803
CREATED:20250708T231317Z
LAST-MODIFIED:20250708T231317Z
UID:35722-1754265600-1754438399@radargolf.es
SUMMARY:Torneo S.A.R. D. Juan de Borbón Memorial Dª Alicia Maura en Santa Ponsa Golf (Mallorca)
DESCRIPTION:
URL:https://radargolf.es/event/torneo-s-a-r-d-juan-de-borbon-memorial-da-alicia-maura-en-santa-ponsa-golf-mallorca/
LOCATION:GOLF SANTA PONSA
CATEGORIES:OTRAS COMUNIDADES,TORNEOS BALEARES
END:VEVENT
BEGIN:VEVENT
DTSTART;VALUE=DATE:20250806
DTEND;VALUE=DATE:20250807
DTSTAMP:20260421T225803
CREATED:20230601T151751Z
LAST-MODIFIED:20250702T233558Z
UID:16066-1754438400-1754524799@radargolf.es
SUMMARY:Torneo Padres e Hijos by Joyerías Seyer en Isla Canela Links (Huelva)
DESCRIPTION:
URL:https://radargolf.es/event/torneo-joyerias-seyer-en-isla-canela-links-huelva/
LOCATION:ISLA CANELA LINKS
CATEGORIES:ANDALUCÍA,TORNEOS HUELVA
END:VEVENT
BEGIN:VEVENT
DTSTART;VALUE=DATE:20250806
DTEND;VALUE=DATE:20250807
DTSTAMP:20260421T225803
CREATED:20240415T184457Z
LAST-MODIFIED:20250625T000040Z
UID:25454-1754438400-1754524799@radargolf.es
SUMMARY:Torneo Amigos de Islantilla en Islantilla Golf (Huelva)
DESCRIPTION:
URL:https://radargolf.es/event/torneo-amigos-de-islantilla-en-islantilla-golf-huelva/
LOCATION:ISLANTILLA GOLF
CATEGORIES:ANDALUCÍA,TORNEOS HUELVA
END:VEVENT
BEGIN:VEVENT
DTSTART;VALUE=DATE:20250807
DTEND;VALUE=DATE:20250808
DTSTAMP:20260421T225803
CREATED:20230413T203307Z
LAST-MODIFIED:20250618T224407Z
UID:14180-1754524800-1754611199@radargolf.es
SUMMARY:Gem Summer Slam en Capdepera Golf (Mallorca)
DESCRIPTION:
URL:https://radargolf.es/event/gem-summer-slam-en-capdepera-golf-mallorca-2/
LOCATION:CAPDEPERA GOLF
CATEGORIES:OTRAS COMUNIDADES,TORNEOS BALEARES
END:VEVENT
END:VCALENDAR