BEGIN:VCALENDAR
VERSION:2.0
PRODID:-//radargolf - ECPv6.15.14//NONSGML v1.0//EN
CALSCALE:GREGORIAN
METHOD:PUBLISH
X-ORIGINAL-URL:https://radargolf.es
X-WR-CALDESC:Eventos para radargolf
REFRESH-INTERVAL;VALUE=DURATION:PT1H
X-Robots-Tag:noindex
X-PUBLISHED-TTL:PT1H
BEGIN:VTIMEZONE
TZID:Europe/Madrid
BEGIN:DAYLIGHT
TZOFFSETFROM:+0100
TZOFFSETTO:+0200
TZNAME:CEST
DTSTART:20240331T010000
END:DAYLIGHT
BEGIN:STANDARD
TZOFFSETFROM:+0200
TZOFFSETTO:+0100
TZNAME:CET
DTSTART:20241027T010000
END:STANDARD
BEGIN:DAYLIGHT
TZOFFSETFROM:+0100
TZOFFSETTO:+0200
TZNAME:CEST
DTSTART:20250330T010000
END:DAYLIGHT
BEGIN:STANDARD
TZOFFSETFROM:+0200
TZOFFSETTO:+0100
TZNAME:CET
DTSTART:20251026T010000
END:STANDARD
BEGIN:DAYLIGHT
TZOFFSETFROM:+0100
TZOFFSETTO:+0200
TZNAME:CEST
DTSTART:20260329T010000
END:DAYLIGHT
BEGIN:STANDARD
TZOFFSETFROM:+0200
TZOFFSETTO:+0100
TZNAME:CET
DTSTART:20261025T010000
END:STANDARD
BEGIN:DAYLIGHT
TZOFFSETFROM:+0100
TZOFFSETTO:+0200
TZNAME:CEST
DTSTART:20270328T010000
END:DAYLIGHT
BEGIN:STANDARD
TZOFFSETFROM:+0200
TZOFFSETTO:+0100
TZNAME:CET
DTSTART:20271031T010000
END:STANDARD
END:VTIMEZONE
BEGIN:VEVENT
DTSTART;VALUE=DATE:20250503
DTEND;VALUE=DATE:20250504
DTSTAMP:20260422T014749
CREATED:20221110T191531Z
LAST-MODIFIED:20250430T221254Z
UID:9470-1746230400-1746316799@radargolf.es
SUMMARY:Torneo Día de la Madre en Green Sire Cabanillas Golf (Guadalajara)
DESCRIPTION:
URL:https://radargolf.es/event/torneo-dia-de-la-madre-en-green-sire-cabanillas-golf-guadalajara/
LOCATION:GREEN SIRE GOLF CABANILLAS
CATEGORIES:OTRAS COMUNIDADES,TORNEOS CASTILLA LA MANCHA,TORNEOS GUADALAJARA
END:VEVENT
BEGIN:VEVENT
DTSTART;VALUE=DATE:20250503
DTEND;VALUE=DATE:20250504
DTSTAMP:20260422T014749
CREATED:20230228T202417Z
LAST-MODIFIED:20250228T121659Z
UID:12608-1746230400-1746316799@radargolf.es
SUMMARY:Copa Levante en Bonalba Golf (Alicante)
DESCRIPTION:
URL:https://radargolf.es/event/copa-levante-en-bonalba-golf-alicante/
LOCATION:BONALBA GOLF
CATEGORIES:OTRAS COMUNIDADES,TORNEOS ALICANTE,TORNEOS C. VALENCIANA
END:VEVENT
BEGIN:VEVENT
DTSTART;VALUE=DATE:20250506
DTEND;VALUE=DATE:20250507
DTSTAMP:20260422T014749
CREATED:20221110T191727Z
LAST-MODIFIED:20250505T220028Z
UID:9474-1746489600-1746575999@radargolf.es
SUMMARY:Torneo La Bomba en Green Sire Cabanillas (Guadalajara)
DESCRIPTION:
URL:https://radargolf.es/event/torneo-la-bomba-en-green-sire-cabanillas-guadalajara/
LOCATION:GREEN SIRE GOLF CABANILLAS
CATEGORIES:OTRAS COMUNIDADES,TORNEOS CASTILLA LA MANCHA,TORNEOS GUADALAJARA
END:VEVENT
BEGIN:VEVENT
DTSTART;VALUE=DATE:20250510
DTEND;VALUE=DATE:20250511
DTSTAMP:20260422T014749
CREATED:20231025T222631Z
LAST-MODIFIED:20240908T214313Z
UID:20192-1746835200-1746921599@radargolf.es
SUMMARY:III Edición Copa Master en Green Sire Golf Cabanillas (Guadalajara)
DESCRIPTION:
URL:https://radargolf.es/event/iii-edicion-copa-master-en-green-sire-golf-cabanillas-guadalajara-8/
LOCATION:GREEN SIRE GOLF CABANILLAS
CATEGORIES:OTRAS COMUNIDADES,TORNEOS CASTILLA LA MANCHA,TORNEOS GUADALAJARA
END:VEVENT
BEGIN:VEVENT
DTSTART;VALUE=DATE:20250510
DTEND;VALUE=DATE:20250511
DTSTAMP:20260422T014749
CREATED:20250505T224421Z
LAST-MODIFIED:20250505T224421Z
UID:34243-1746835200-1746921599@radargolf.es
SUMMARY:III Prueba Puntuable P&P RFAG en El Campanario Golf (Málaga)
DESCRIPTION:
URL:https://radargolf.es/event/iii-prueba-puntuable-pp-rfag-en-el-campanario-golf-malaga/
LOCATION:EL CAMPANARIO GOLF
CATEGORIES:ANDALUCÍA,TORNEOS MÁLAGA
END:VEVENT
BEGIN:VEVENT
DTSTART;VALUE=DATE:20250511
DTEND;VALUE=DATE:20250512
DTSTAMP:20260422T014749
CREATED:20241004T233614Z
LAST-MODIFIED:20250430T220540Z
UID:29948-1746921600-1747007999@radargolf.es
SUMMARY:Torneo Fundación Ligas Golf en León Golf (León)
DESCRIPTION:
URL:https://radargolf.es/event/torneo-fundacion-ligas-golf-en-leon-golf-leon/
LOCATION:LEÓN GOLF
CATEGORIES:OTRAS COMUNIDADES,TORNEOS CASTILLA Y LEÓN,TORNEOS LEÓN
END:VEVENT
BEGIN:VEVENT
DTSTART;VALUE=DATE:20250515
DTEND;VALUE=DATE:20250516
DTSTAMP:20260422T014749
CREATED:20250209T183509Z
LAST-MODIFIED:20250505T223531Z
UID:32210-1747267200-1747353599@radargolf.es
SUMMARY:Torneo Golf BS en Green Paddock (Madrid)
DESCRIPTION:
URL:https://radargolf.es/event/torneo-golf-bs-en-green-paddock-madrid/
LOCATION:GREEN PADDOCK
CATEGORIES:OTRAS COMUNIDADES,TORNEOS MADRID
END:VEVENT
BEGIN:VEVENT
DTSTART;VALUE=DATE:20250517
DTEND;VALUE=DATE:20250518
DTSTAMP:20260422T014749
CREATED:20230228T194241Z
LAST-MODIFIED:20250312T234553Z
UID:12549-1747440000-1747526399@radargolf.es
SUMMARY:I Circuito Torre de Nuñez en León Golf (León)
DESCRIPTION:
URL:https://radargolf.es/event/i-circuito-torre-de-nunez-en-leon-golf-leon/
LOCATION:LEÓN GOLF
CATEGORIES:OTRAS COMUNIDADES,TORNEOS CASTILLA Y LEÓN,TORNEOS LEÓN
END:VEVENT
BEGIN:VEVENT
DTSTART;VALUE=DATE:20250517
DTEND;VALUE=DATE:20250518
DTSTAMP:20260422T014749
CREATED:20230217T125932Z
LAST-MODIFIED:20250512T221137Z
UID:12255-1747440000-1747526399@radargolf.es
SUMMARY:Circuito Golf Solidario Cádiz en Campano Golf (Cádiz)
DESCRIPTION:
URL:https://radargolf.es/event/circuito-golf-solidario-cadiz-en-campano-golf-cadiz/
LOCATION:CAMPANO GOLF
CATEGORIES:ANDALUCÍA,TORNEOS CÁDIZ
END:VEVENT
BEGIN:VEVENT
DTSTART;VALUE=DATE:20250517
DTEND;VALUE=DATE:20250518
DTSTAMP:20260422T014749
CREATED:20250228T113101Z
LAST-MODIFIED:20250512T220627Z
UID:32777-1747440000-1747526399@radargolf.es
SUMMARY:Meliá Rewards Top 10 Summum Golf en Real Club Sevilla Golf (Sevilla)
DESCRIPTION:
URL:https://radargolf.es/event/melia-rewards-top-10-summum-golf-en-real-club-sevilla-golf-sevilla/
LOCATION:REAL CLUB SEVILLA GOLF
CATEGORIES:ANDALUCÍA,TORNEOS SEVILLA
END:VEVENT
BEGIN:VEVENT
DTSTART;VALUE=DATE:20250517
DTEND;VALUE=DATE:20250518
DTSTAMP:20260422T014749
CREATED:20250424T224511Z
LAST-MODIFIED:20250424T224511Z
UID:33949-1747440000-1747526399@radargolf.es
SUMMARY:XI Golf Challenge Torneo Apertura en Hacienda Riquelme Golf (Murcia)
DESCRIPTION:
URL:https://radargolf.es/event/xi-golf-challenge-torneo-apertura-en-hacienda-riquelme-golf-murcia/
LOCATION:HACIENDA RIQUELME GOLF
CATEGORIES:OTRAS COMUNIDADES,TORNEOS MURCIA
END:VEVENT
BEGIN:VEVENT
DTSTART;VALUE=DATE:20250517
DTEND;VALUE=DATE:20250519
DTSTAMP:20260422T014749
CREATED:20230317T071715Z
LAST-MODIFIED:20250420T111512Z
UID:13342-1747440000-1747612799@radargolf.es
SUMMARY:Campeonato de España Masculino P&P en Paderne Golf (A Coruña)
DESCRIPTION:
URL:https://radargolf.es/event/campeonato-de-espana-masculino-pp-en-paderne-golf-a-coruna/
LOCATION:PADERNE GOLF
CATEGORIES:OTRAS COMUNIDADES,TORNEOS CORUÑA,TORNEOS GALICIA
END:VEVENT
BEGIN:VEVENT
DTSTART;VALUE=DATE:20250517
DTEND;VALUE=DATE:20250520
DTSTAMP:20260422T014749
CREATED:20230811T220221Z
LAST-MODIFIED:20250512T221319Z
UID:18097-1747440000-1747699199@radargolf.es
SUMMARY:Torneo Asesoría Eiriz en Rio Cabe Golf (Lugo)
DESCRIPTION:
URL:https://radargolf.es/event/torneo-asesoria-eiriz-en-rio-cabe-golf-lugo/
LOCATION:GOLF RIO CABE
CATEGORIES:OTRAS COMUNIDADES,TORNEOS GALICIA,TORNEOS LUGO
END:VEVENT
BEGIN:VEVENT
DTSTART;VALUE=DATE:20250518
DTEND;VALUE=DATE:20250519
DTSTAMP:20260422T014749
CREATED:20241004T233805Z
LAST-MODIFIED:20241004T233805Z
UID:29954-1747526400-1747612799@radargolf.es
SUMMARY:Liga Damas en León Golf (León)
DESCRIPTION:
URL:https://radargolf.es/event/liga-damas-en-leon-golf-leon-8/
LOCATION:LEÓN GOLF
CATEGORIES:OTRAS COMUNIDADES,TORNEOS CASTILLA Y LEÓN,TORNEOS LEÓN
END:VEVENT
BEGIN:VEVENT
DTSTART;VALUE=DATE:20250522
DTEND;VALUE=DATE:20250523
DTSTAMP:20260422T014749
CREATED:20250319T235630Z
LAST-MODIFIED:20250319T235630Z
UID:33375-1747872000-1747958399@radargolf.es
SUMMARY:Jubijueves en Guara Golf (Huesca)
DESCRIPTION:
URL:https://radargolf.es/event/jubijueves-en-guara-golf-huesca-3/
LOCATION:GUARA GOLF
CATEGORIES:OTRAS COMUNIDADES,TORNEOS ARAGÓN,TORNEOS HUESCA
END:VEVENT
BEGIN:VEVENT
DTSTART;VALUE=DATE:20260327
DTEND;VALUE=DATE:20260330
DTSTAMP:20260422T014749
CREATED:20240428T224149Z
LAST-MODIFIED:20260120T235138Z
UID:25814-1774569600-1774828799@radargolf.es
SUMMARY:Ranking P&P Galicia 2026 en P&P Ourense (Orense)
DESCRIPTION:
URL:https://radargolf.es/event/ranking-pp-galicia-2026-en-pp-ourense-orense/
LOCATION:P&P OURENSE
CATEGORIES:OTRAS COMUNIDADES,TORNEOS GALICIA,TORNEOS PONTEVEDRA
END:VEVENT
BEGIN:VEVENT
DTSTART;VALUE=DATE:20250524
DTEND;VALUE=DATE:20250525
DTSTAMP:20260422T014749
CREATED:20230206T193009Z
LAST-MODIFIED:20250521T215955Z
UID:11759-1748044800-1748131199@radargolf.es
SUMMARY:Circuito Pies Blancos en Islantilla Golf (Huelva)
DESCRIPTION:  \n 
URL:https://radargolf.es/event/circuito-pies-blancos-en-islantilla-golf-huelva/
LOCATION:ISLANTILLA GOLF
CATEGORIES:ANDALUCÍA,TORNEOS HUELVA
END:VEVENT
BEGIN:VEVENT
DTSTART;VALUE=DATE:20250524
DTEND;VALUE=DATE:20250525
DTSTAMP:20260422T014749
CREATED:20230216T232505Z
LAST-MODIFIED:20250518T213005Z
UID:12237-1748044800-1748131199@radargolf.es
SUMMARY:Torneo William Martin El Hombre Que Nunca Existió en La Monacilla Golf (Huelva)
DESCRIPTION:
URL:https://radargolf.es/event/torneo-william-martin-el-hombre-que-nunca-existio-en-la-monacilla-golf-huelva/
LOCATION:LA MONACILLA GOLF
CATEGORIES:ANDALUCÍA,TORNEOS HUELVA
END:VEVENT
BEGIN:VEVENT
DTSTART;VALUE=DATE:20250524
DTEND;VALUE=DATE:20250525
DTSTAMP:20260422T014749
CREATED:20231115T201443Z
LAST-MODIFIED:20250521T214653Z
UID:20903-1748044800-1748131199@radargolf.es
SUMMARY:Torneo Chaqueta Verde en Green Sire Cabanillas (Guadalajara)
DESCRIPTION:
URL:https://radargolf.es/event/torneo-chaqueta-verde-en-green-sire-cabanillas-guadalajara/
LOCATION:GREEN SIRE GOLF CABANILLAS
CATEGORIES:OTRAS COMUNIDADES,TORNEOS CASTILLA LA MANCHA,TORNEOS GUADALAJARA
END:VEVENT
BEGIN:VEVENT
DTSTART;VALUE=DATE:20250524
DTEND;VALUE=DATE:20250526
DTSTAMP:20260422T014749
CREATED:20230124T190819Z
LAST-MODIFIED:20250424T230048Z
UID:11258-1748044800-1748217599@radargolf.es
SUMMARY:IV GP María de Villota en Golf Race (Madrid)
DESCRIPTION:  \n  \n  \n 
URL:https://radargolf.es/event/iv-gp-maria-de-villota-en-golf-race-madrid/
LOCATION:RACE GOLF
CATEGORIES:OTRAS COMUNIDADES,TORNEOS MADRID
END:VEVENT
BEGIN:VEVENT
DTSTART;VALUE=DATE:20250525
DTEND;VALUE=DATE:20250526
DTSTAMP:20260422T014749
CREATED:20240927T231925Z
LAST-MODIFIED:20240927T231925Z
UID:29721-1748131200-1748217599@radargolf.es
SUMMARY:Circuito Noveles en Foressos Golf (Valencia)
DESCRIPTION:
URL:https://radargolf.es/event/circuito-noveles-en-foressos-golf-valencia-9/
LOCATION:FORESSOS GOLF
CATEGORIES:OTRAS COMUNIDADES,TORNEOS C. VALENCIANA,TORNEOS VALENCIA
END:VEVENT
BEGIN:VEVENT
DTSTART;VALUE=DATE:20250530
DTEND;VALUE=DATE:20250531
DTSTAMP:20260422T014749
CREATED:20230215T223930Z
LAST-MODIFIED:20250528T230404Z
UID:12169-1748563200-1748649599@radargolf.es
SUMMARY:Torneo Día de la Mujer Golfista en Las Rozas Golf (Madrid)
DESCRIPTION:
URL:https://radargolf.es/event/torneo-dia-de-la-mujer-golfista-en-las-rozas-golf-madrid/
LOCATION:LAS ROZAS GOLF
CATEGORIES:OTRAS COMUNIDADES,TORNEOS MADRID
END:VEVENT
BEGIN:VEVENT
DTSTART;VALUE=DATE:20250531
DTEND;VALUE=DATE:20250601
DTSTAMP:20260422T014749
CREATED:20230126T235425Z
LAST-MODIFIED:20250528T221852Z
UID:11344-1748649600-1748735999@radargolf.es
SUMMARY:X Circuito Yoingolf Road to Caribe en Foressos Golf (Valencia)
DESCRIPTION:
URL:https://radargolf.es/event/x-circuito-yoingolf-road-to-caribe-en-foressos-golf-valencia/
LOCATION:FORESSOS GOLF
CATEGORIES:OTRAS COMUNIDADES,TORNEOS C. VALENCIANA,TORNEOS VALENCIA
END:VEVENT
BEGIN:VEVENT
DTSTART;VALUE=DATE:20250531
DTEND;VALUE=DATE:20250601
DTSTAMP:20260422T014749
CREATED:20230208T101523Z
LAST-MODIFIED:20250119T191403Z
UID:11870-1748649600-1748735999@radargolf.es
SUMMARY:Torneo Mensual en Aguilón Golf (Almería)
DESCRIPTION:
URL:https://radargolf.es/event/torneo-mensual-en-aguilon-golf-almeria-6/
LOCATION:AGUILÓN GOLF
CATEGORIES:ANDALUCÍA,TORNEOS ALMERÍA
END:VEVENT
BEGIN:VEVENT
DTSTART;VALUE=DATE:20250531
DTEND;VALUE=DATE:20250601
DTSTAMP:20260422T014749
CREATED:20250313T002630Z
LAST-MODIFIED:20250313T002630Z
UID:33227-1748649600-1748735999@radargolf.es
SUMMARY:Torneo Ligas Golf en Base Aérea Torrejón Golf (Madrid)
DESCRIPTION:
URL:https://radargolf.es/event/torneo-ligas-golf-en-base-aerea-torrejon-golf-madrid/
LOCATION:BASE AÉREA TORREJÓN GOLF
CATEGORIES:OTRAS COMUNIDADES,TORNEOS MADRID
END:VEVENT
BEGIN:VEVENT
DTSTART;VALUE=DATE:20250531
DTEND;VALUE=DATE:20250602
DTSTAMP:20260422T014749
CREATED:20231115T200422Z
LAST-MODIFIED:20250528T225151Z
UID:20875-1748649600-1748822399@radargolf.es
SUMMARY:Torneo Super-Progre Chivas en Green Sire Cabanillas (Guadalajara)
DESCRIPTION:
URL:https://radargolf.es/event/torneo-super-progre-chivas-en-green-sire-cabanillas-guadalajara/
LOCATION:GREEN SIRE GOLF CABANILLAS
CATEGORIES:OTRAS COMUNIDADES,TORNEOS CASTILLA LA MANCHA,TORNEOS GUADALAJARA
END:VEVENT
BEGIN:VEVENT
DTSTART;VALUE=DATE:20250607
DTEND;VALUE=DATE:20250608
DTSTAMP:20260422T014749
CREATED:20221110T191326Z
LAST-MODIFIED:20240908T214401Z
UID:9466-1749254400-1749340799@radargolf.es
SUMMARY:III Edición Copa Master en Green Sire Golf Cabanillas (Guadalajara)
DESCRIPTION:
URL:https://radargolf.es/event/iii-edicion-copa-master-en-green-sire-golf-cabanillas-guadalajara-9/
LOCATION:GREEN SIRE GOLF CABANILLAS
CATEGORIES:OTRAS COMUNIDADES,TORNEOS CASTILLA LA MANCHA,TORNEOS GUADALAJARA
END:VEVENT
BEGIN:VEVENT
DTSTART;VALUE=DATE:20250607
DTEND;VALUE=DATE:20250608
DTSTAMP:20260422T014749
CREATED:20230506T080404Z
LAST-MODIFIED:20250518T220523Z
UID:14842-1749254400-1749340799@radargolf.es
SUMMARY:Torneo 11º Aniversario en Escuela de Golf Elche (Alicante)
DESCRIPTION:
URL:https://radargolf.es/event/torneo-11o-aniversario-en-escuela-de-golf-elche-alicante/
LOCATION:ESCUELA DE GOLF ELCHE
CATEGORIES:OTRAS COMUNIDADES,TORNEOS ALICANTE,TORNEOS C. VALENCIANA
END:VEVENT
BEGIN:VEVENT
DTSTART;VALUE=DATE:20250607
DTEND;VALUE=DATE:20250608
DTSTAMP:20260422T014749
CREATED:20230601T081713Z
LAST-MODIFIED:20250521T221335Z
UID:16023-1749254400-1749340799@radargolf.es
SUMMARY:XXX Memorial Ángel Sánchez Cabezudo en Bendinat Golf (Mallorca)
DESCRIPTION:
URL:https://radargolf.es/event/xxx-memorial-angel-sanchez-cabezudo-en-bendinat-golf-mallorca/
LOCATION:BENDINAT GOLF
CATEGORIES:OTRAS COMUNIDADES,TORNEOS BALEARES
END:VEVENT
BEGIN:VEVENT
DTSTART;VALUE=DATE:20250607
DTEND;VALUE=DATE:20250608
DTSTAMP:20260422T014749
CREATED:20231013T220931Z
LAST-MODIFIED:20250602T225658Z
UID:19845-1749254400-1749340799@radargolf.es
SUMMARY:Meliá Rewards Top 10 Summum Golf en La Coruña Golf (La Coruña)
DESCRIPTION:
URL:https://radargolf.es/event/melia-rewards-top-10-summum-golf-en-la-coruna-golf-la-coruna/
LOCATION:REAL CLUB GOLF LA CORUÑA
CATEGORIES:OTRAS COMUNIDADES,TORNEOS CORUÑA,TORNEOS GALICIA
END:VEVENT
END:VCALENDAR