BEGIN:VCALENDAR
VERSION:2.0
PRODID:-//radargolf - ECPv6.15.14//NONSGML v1.0//EN
CALSCALE:GREGORIAN
METHOD:PUBLISH
X-WR-CALNAME:radargolf
X-ORIGINAL-URL:https://radargolf.es
X-WR-CALDESC:Eventos para radargolf
REFRESH-INTERVAL;VALUE=DURATION:PT1H
X-Robots-Tag:noindex
X-PUBLISHED-TTL:PT1H
BEGIN:VTIMEZONE
TZID:Europe/Madrid
BEGIN:DAYLIGHT
TZOFFSETFROM:+0100
TZOFFSETTO:+0200
TZNAME:CEST
DTSTART:20240331T010000
END:DAYLIGHT
BEGIN:STANDARD
TZOFFSETFROM:+0200
TZOFFSETTO:+0100
TZNAME:CET
DTSTART:20241027T010000
END:STANDARD
BEGIN:DAYLIGHT
TZOFFSETFROM:+0100
TZOFFSETTO:+0200
TZNAME:CEST
DTSTART:20250330T010000
END:DAYLIGHT
BEGIN:STANDARD
TZOFFSETFROM:+0200
TZOFFSETTO:+0100
TZNAME:CET
DTSTART:20251026T010000
END:STANDARD
BEGIN:DAYLIGHT
TZOFFSETFROM:+0100
TZOFFSETTO:+0200
TZNAME:CEST
DTSTART:20260329T010000
END:DAYLIGHT
BEGIN:STANDARD
TZOFFSETFROM:+0200
TZOFFSETTO:+0100
TZNAME:CET
DTSTART:20261025T010000
END:STANDARD
END:VTIMEZONE
BEGIN:VEVENT
DTSTART;VALUE=DATE:20250820
DTEND;VALUE=DATE:20250821
DTSTAMP:20260425T164835
CREATED:20230124T092650Z
LAST-MODIFIED:20250720T002341Z
UID:11197-1755648000-1755734399@radargolf.es
SUMMARY:VI Edición Netgolfing Tour en Las Brisas Golf (Málaga)
DESCRIPTION:  \n 
URL:https://radargolf.es/event/vi-edicion-netgolfing-tour-en-las-brisas-golf-malaga/
LOCATION:LAS BRISAS GOLF
CATEGORIES:ANDALUCÍA,TORNEOS MÁLAGA
END:VEVENT
BEGIN:VEVENT
DTSTART;VALUE=DATE:20250820
DTEND;VALUE=DATE:20250821
DTSTAMP:20260425T164835
CREATED:20230127T142824Z
LAST-MODIFIED:20250818T231903Z
UID:11403-1755648000-1755734399@radargolf.es
SUMMARY:Somabay World Cup by Leclub Golf en La Monacilla Golf (Huelva)
DESCRIPTION:
URL:https://radargolf.es/event/somabay-world-cup-by-leclub-golf-en-la-monacilla-golf-huelva/
LOCATION:LA MONACILLA GOLF
CATEGORIES:ANDALUCÍA,TORNEOS HUELVA
END:VEVENT
BEGIN:VEVENT
DTSTART;VALUE=DATE:20250822
DTEND;VALUE=DATE:20250823
DTSTAMP:20260425T164835
CREATED:20230608T175410Z
LAST-MODIFIED:20250811T222549Z
UID:16258-1755820800-1755907199@radargolf.es
SUMMARY:Torneo Memorial Doña Carla Orleans Borbón en Costa Ballena Ocean Golf (Cádiz)
DESCRIPTION:
URL:https://radargolf.es/event/torneo-dona-carla-orleans-borbon-en-costa-ballena-ocean-golf-cadiz/
LOCATION:COSTA BALLENA OCEAN CLUB
CATEGORIES:ANDALUCÍA,TORNEOS CÁDIZ
END:VEVENT
BEGIN:VEVENT
DTSTART;VALUE=DATE:20250823
DTEND;VALUE=DATE:20250824
DTSTAMP:20260425T164835
CREATED:20220914T110248Z
LAST-MODIFIED:20250818T232712Z
UID:8741-1755907200-1755993599@radargolf.es
SUMMARY:Circuito Golf Solidario Cádiz en Fairplay Golf (Cádiz)
DESCRIPTION:
URL:https://radargolf.es/event/circuito-golf-solidario-cadiz-en-fairplay-golf-cadiz/
LOCATION:FAIR PLAY RESORT
CATEGORIES:ANDALUCÍA,TORNEOS CÁDIZ
END:VEVENT
BEGIN:VEVENT
DTSTART;VALUE=DATE:20250823
DTEND;VALUE=DATE:20250824
DTSTAMP:20260425T164835
CREATED:20230208T101136Z
LAST-MODIFIED:20250811T224832Z
UID:11862-1755907200-1755993599@radargolf.es
SUMMARY:Torneo Copa de Oro Ballantines en Aguilón Golf (Almería)
DESCRIPTION:
URL:https://radargolf.es/event/torneo-copa-de-oro-en-aguilon-golf-almeria/
LOCATION:AGUILÓN GOLF
CATEGORIES:ANDALUCÍA,TORNEOS ALMERÍA
END:VEVENT
BEGIN:VEVENT
DTSTART;VALUE=DATE:20250823
DTEND;VALUE=DATE:20250824
DTSTAMP:20260425T164835
CREATED:20230216T233332Z
LAST-MODIFIED:20250818T232828Z
UID:12249-1755907200-1755993599@radargolf.es
SUMMARY:Torneo por Equipos en La Monacilla Golf (Huelva)
DESCRIPTION: 
URL:https://radargolf.es/event/torneo-por-equipos-en-la-monacilla-golf-huelva/
LOCATION:LA MONACILLA GOLF
CATEGORIES:ANDALUCÍA,TORNEOS HUELVA
END:VEVENT
BEGIN:VEVENT
DTSTART;VALUE=DATE:20250823
DTEND;VALUE=DATE:20250824
DTSTAMP:20260425T164835
CREATED:20230307T190708Z
LAST-MODIFIED:20250720T004638Z
UID:13020-1755907200-1755993599@radargolf.es
SUMMARY:XV Torneo Playa Granada en Los Moriscos Golf (Granada)
DESCRIPTION:
URL:https://radargolf.es/event/xv-torneo-playa-granada-en-los-moriscos-golf-granada/
LOCATION:LOS MORISCOS GOLF
CATEGORIES:ANDALUCÍA,TORNEOS GRANADA
END:VEVENT
BEGIN:VEVENT
DTSTART;VALUE=DATE:20250823
DTEND;VALUE=DATE:20250824
DTSTAMP:20260425T164835
CREATED:20230622T072421Z
LAST-MODIFIED:20250625T000251Z
UID:16643-1755907200-1755993599@radargolf.es
SUMMARY:III Torneo Doubletree by Hilton en Islantilla Golf (Huelva)
DESCRIPTION:
URL:https://radargolf.es/event/iii-torneo-doubletree-by-hilton-en-islantilla-golf-huelva/
LOCATION:ISLANTILLA GOLF
CATEGORIES:ANDALUCÍA,TORNEOS HUELVA
END:VEVENT
BEGIN:VEVENT
DTSTART;VALUE=DATE:20250823
DTEND;VALUE=DATE:20250824
DTSTAMP:20260425T164835
CREATED:20240110T165123Z
LAST-MODIFIED:20250708T230117Z
UID:22165-1755907200-1755993599@radargolf.es
SUMMARY:XII Circuito de Golf Sotogrande en Hacienda Alcaidesa Golf (Cádiz)
DESCRIPTION:
URL:https://radargolf.es/event/xii-circuito-de-golf-sotogrande-en-hacienda-alcaidesa-golf-cadiz/
LOCATION:LA HACIENDA ALCAIDESA GOLF
CATEGORIES:ANDALUCÍA,TORNEOS CÁDIZ
END:VEVENT
BEGIN:VEVENT
DTSTART;VALUE=DATE:20250823
DTEND;VALUE=DATE:20250824
DTSTAMP:20260425T164835
CREATED:20240429T185711Z
LAST-MODIFIED:20250720T005654Z
UID:25917-1755907200-1755993599@radargolf.es
SUMMARY:II Srixon Teams Cup en Isla Canela Golf (Huelva)
DESCRIPTION:
URL:https://radargolf.es/event/ii-srixon-teams-cup-en-isla-canela-golf-huelva/
LOCATION:ISLA CANELA GOLF
CATEGORIES:ANDALUCÍA,TORNEOS HUELVA
END:VEVENT
BEGIN:VEVENT
DTSTART;VALUE=DATE:20250824
DTEND;VALUE=DATE:20250825
DTSTAMP:20260425T164835
CREATED:20250413T200026Z
LAST-MODIFIED:20250818T231526Z
UID:33723-1755993600-1756079999@radargolf.es
SUMMARY:Torneo Pro Shop en Almerimar Golf (Almería)
DESCRIPTION:
URL:https://radargolf.es/event/torneo-pro-shop-en-almerimar-golf-almeria/
LOCATION:ALMERIMAR GOLF
CATEGORIES:ANDALUCÍA,TORNEOS ALMERÍA
END:VEVENT
BEGIN:VEVENT
DTSTART;VALUE=DATE:20250826
DTEND;VALUE=DATE:20250827
DTSTAMP:20260425T164835
CREATED:20250725T232811Z
LAST-MODIFIED:20250725T232811Z
UID:36026-1756166400-1756252799@radargolf.es
SUMMARY:Circuito de Verano en Pula Golf (Mallorca)
DESCRIPTION:
URL:https://radargolf.es/event/circuito-de-verano-en-pula-golf-mallorca-4/
LOCATION:PULA GOLF
CATEGORIES:OTRAS COMUNIDADES,TORNEOS BALEARES
END:VEVENT
BEGIN:VEVENT
DTSTART;VALUE=DATE:20250828
DTEND;VALUE=DATE:20250901
DTSTAMP:20260425T164835
CREATED:20230228T205936Z
LAST-MODIFIED:20250413T180712Z
UID:12644-1756339200-1756684799@radargolf.es
SUMMARY:Pro Am Andalucía Experience en Valle del Este Golf (Almería)
DESCRIPTION:
URL:https://radargolf.es/event/pro-am-andalucia-experience-en-valle-del-este-golf-almeria-2/
LOCATION:VALLE DEL ESTE GOLF
CATEGORIES:ANDALUCÍA,TORNEOS ALMERÍA
END:VEVENT
BEGIN:VEVENT
DTSTART;VALUE=DATE:20250830
DTEND;VALUE=DATE:20250831
DTSTAMP:20260425T164835
CREATED:20250720T010631Z
LAST-MODIFIED:20250825T114250Z
UID:35957-1756512000-1756598399@radargolf.es
SUMMARY:IV Torneo Benéfico Hermandad Cautivo Santa Marta Marbella en Santa María Golf (Málaga)
DESCRIPTION: 
URL:https://radargolf.es/event/iv-torneo-benefico-hermandad-cautivo-santa-marta-marbella-en-santa-maria-golf-malaga/
LOCATION:SANTA MARÍA GOLF
CATEGORIES:ANDALUCÍA,TORNEOS MÁLAGA
END:VEVENT
BEGIN:VEVENT
DTSTART;VALUE=DATE:20250830
DTEND;VALUE=DATE:20250831
DTSTAMP:20260425T164835
CREATED:20250826T171505Z
LAST-MODIFIED:20250826T171505Z
UID:36380-1756512000-1756598399@radargolf.es
SUMMARY:XXXV Torneo San Julián en la Vereda Golf (Cuenca)
DESCRIPTION:
URL:https://radargolf.es/event/xxxv-torneo-san-julian-en-la-vereda-golf-cuenca/
LOCATION:LA VEREDA GOLF
CATEGORIES:OTRAS COMUNIDADES,TORNEOS CASTILLA LA MANCHA,TORNEOS CUENCA
END:VEVENT
BEGIN:VEVENT
DTSTART;VALUE=DATE:20250830
DTEND;VALUE=DATE:20250901
DTSTAMP:20260425T164835
CREATED:20240117T172213Z
LAST-MODIFIED:20250818T225134Z
UID:22348-1756512000-1756684799@radargolf.es
SUMMARY:Campeonato de Dobles en Sojuela Golf (La Rioja)
DESCRIPTION:
URL:https://radargolf.es/event/campeonato-de-dobles-en-sojuela-golf-la-rioja/
LOCATION:SOJUELA GOLF
CATEGORIES:OTRAS COMUNIDADES,TORNEOS LA RIOJA
END:VEVENT
BEGIN:VEVENT
DTSTART;VALUE=DATE:20250831
DTEND;VALUE=DATE:20250901
DTSTAMP:20260425T164835
CREATED:20230308T233926Z
LAST-MODIFIED:20250124T010228Z
UID:13149-1756598400-1756684799@radargolf.es
SUMMARY:Circuito Legacy en Can Cuyás Golf (Barcelona)
DESCRIPTION:
URL:https://radargolf.es/event/circuito-legacy-en-can-cuyas-golf-barcelona/
LOCATION:CAN CUYÁS GOLF
CATEGORIES:OTRAS COMUNIDADES,TORNEOS BARCELONA,TORNEOS CATALUÑA
END:VEVENT
BEGIN:VEVENT
DTSTART;VALUE=DATE:20250905
DTEND;VALUE=DATE:20250906
DTSTAMP:20260425T164835
CREATED:20250602T231830Z
LAST-MODIFIED:20250602T231830Z
UID:34926-1757030400-1757116799@radargolf.es
SUMMARY:Torneo Nocturno Sunset en Air Golf (Segovia)
DESCRIPTION:
URL:https://radargolf.es/event/torneo-nocturno-sunset-en-air-golf-segovia-3/
LOCATION:AIR GOLF
CATEGORIES:OTRAS COMUNIDADES,TORNEOS CASTILLA Y LEÓN,TORNEOS SEGOVIA
END:VEVENT
BEGIN:VEVENT
DTSTART;VALUE=DATE:20250905
DTEND;VALUE=DATE:20250906
DTSTAMP:20260425T164835
CREATED:20250826T222232Z
LAST-MODIFIED:20250826T222232Z
UID:36473-1757030400-1757116799@radargolf.es
SUMMARY:XXV Torneo Vega Infantil en Guadalhorce Golf (Málaga)
DESCRIPTION:
URL:https://radargolf.es/event/xxv-torneo-vega-infantil-en-guadalhorce-golf-malaga/
LOCATION:GUADALHORCE GOLF
CATEGORIES:ANDALUCÍA,TORNEOS MÁLAGA
END:VEVENT
BEGIN:VEVENT
DTSTART;VALUE=DATE:20250906
DTEND;VALUE=DATE:20250907
DTSTAMP:20260425T164835
CREATED:20230912T091712Z
LAST-MODIFIED:20250627T235035Z
UID:18964-1757116800-1757203199@radargolf.es
SUMMARY:I Circuito Solidario Detradi Galicia 2025 en Hércules Golf (A Coruña)
DESCRIPTION: 
URL:https://radargolf.es/event/i-circuito-solidario-detradi-galicia-2025-en-hercules-golf-a-coruna/
LOCATION:HÉRCULES GOLF
CATEGORIES:OTRAS COMUNIDADES,TORNEOS CORUÑA,TORNEOS GALICIA
END:VEVENT
BEGIN:VEVENT
DTSTART;VALUE=DATE:20250906
DTEND;VALUE=DATE:20250907
DTSTAMP:20260425T164835
CREATED:20231025T221757Z
LAST-MODIFIED:20250622T185508Z
UID:20178-1757116800-1757203199@radargolf.es
SUMMARY:Copa Lar Blanco en Barbanza Golf (A Coruña)
DESCRIPTION:
URL:https://radargolf.es/event/copa-lar-blanco-en-barbanza-golf-a-coruna/
LOCATION:BARBANZA GOLF
CATEGORIES:OTRAS COMUNIDADES,TORNEOS CORUÑA,TORNEOS GALICIA
END:VEVENT
BEGIN:VEVENT
DTSTART;VALUE=DATE:20250906
DTEND;VALUE=DATE:20250907
DTSTAMP:20260425T164835
CREATED:20250508T170406Z
LAST-MODIFIED:20250508T170406Z
UID:34352-1757116800-1757203199@radargolf.es
SUMMARY:Circuito de 5ª y 6ª categoría P&P RFAG en Escuela Pública La Cartuja (Sevilla)
DESCRIPTION:Más información e inscripción en el siguiente ENLACE
URL:https://radargolf.es/event/circuito-de-5a-y-6a-categoria-pp-rfag-en-escuela-publica-la-cartuja-sevilla/
LOCATION:ESCUELA PÚBLICA LA CARTUJA
CATEGORIES:ANDALUCÍA,TORNEOS SEVILLA
END:VEVENT
BEGIN:VEVENT
DTSTART;VALUE=DATE:20250906
DTEND;VALUE=DATE:20250907
DTSTAMP:20260425T164835
CREATED:20250826T221855Z
LAST-MODIFIED:20250826T221855Z
UID:36468-1757116800-1757203199@radargolf.es
SUMMARY:XIV Torneo Gross Dentistas en Guadalhorce Golf (Málaga)
DESCRIPTION:
URL:https://radargolf.es/event/xiv-torneo-gross-dentistas-en-guadalhorce-golf-malaga/
LOCATION:GUADALHORCE GOLF
CATEGORIES:ANDALUCÍA,TORNEOS MÁLAGA
END:VEVENT
BEGIN:VEVENT
DTSTART;VALUE=DATE:20250906
DTEND;VALUE=DATE:20250908
DTSTAMP:20260425T164835
CREATED:20230216T231236Z
LAST-MODIFIED:20250413T192248Z
UID:12212-1757116800-1757289599@radargolf.es
SUMMARY:I Torneo De Verano Golf Costa del Sol en Almerimar Golf (Almería)
DESCRIPTION:
URL:https://radargolf.es/event/i-torneo-de-verano-golf-costa-del-sol-en-almerimar-golf-almeria/
LOCATION:ALMERIMAR GOLF
CATEGORIES:ANDALUCÍA,TORNEOS ALMERÍA
END:VEVENT
BEGIN:VEVENT
DTSTART;VALUE=DATE:20250907
DTEND;VALUE=DATE:20250908
DTSTAMP:20260425T164835
CREATED:20230608T170432Z
LAST-MODIFIED:20250413T204617Z
UID:16229-1757203200-1757289599@radargolf.es
SUMMARY:Liga Iniciación Mayores 9 Hoyos en Sojuela Golf (La Rioja)
DESCRIPTION:
URL:https://radargolf.es/event/liga-iniciacion-mayores-9-hoyos-en-sojuela-golf-la-rioja-3/
LOCATION:SOJUELA GOLF
CATEGORIES:OTRAS COMUNIDADES,TORNEOS LA RIOJA
END:VEVENT
BEGIN:VEVENT
DTSTART;VALUE=DATE:20250907
DTEND;VALUE=DATE:20250908
DTSTAMP:20260425T164835
CREATED:20240406T222305Z
LAST-MODIFIED:20250413T205343Z
UID:25064-1757203200-1757289599@radargolf.es
SUMMARY:Liga Infantil del Norte en Sojuela Golf (La Rioja)
DESCRIPTION:
URL:https://radargolf.es/event/liga-infantil-del-norte-en-sojuela-golf-la-rioja/
LOCATION:SOJUELA GOLF
CATEGORIES:OTRAS COMUNIDADES,TORNEOS LA RIOJA
END:VEVENT
BEGIN:VEVENT
DTSTART;VALUE=DATE:20250907
DTEND;VALUE=DATE:20250908
DTSTAMP:20260425T164835
CREATED:20250826T222059Z
LAST-MODIFIED:20250826T222059Z
UID:36470-1757203200-1757289599@radargolf.es
SUMMARY:III Torneo Bodegas Campos en Guadalhorce Golf (Málaga)
DESCRIPTION:
URL:https://radargolf.es/event/iii-torneo-bodegas-campos-en-guadalhorce-golf-malaga/
LOCATION:GUADALHORCE GOLF
CATEGORIES:ANDALUCÍA,TORNEOS MÁLAGA
END:VEVENT
BEGIN:VEVENT
DTSTART;VALUE=DATE:20250908
DTEND;VALUE=DATE:20250912
DTSTAMP:20260425T164835
CREATED:20230608T165504Z
LAST-MODIFIED:20250826T221732Z
UID:16219-1757289600-1757635199@radargolf.es
SUMMARY:XVII Trofeo Seguros Reale en Guadalhorce Golf (Málaga)
DESCRIPTION:
URL:https://radargolf.es/event/trofeo-seguros-reale-en-guadalhorce-golf-malaga/
LOCATION:GUADALHORCE GOLF
CATEGORIES:ANDALUCÍA,TORNEOS MÁLAGA
END:VEVENT
BEGIN:VEVENT
DTSTART;VALUE=DATE:20250909
DTEND;VALUE=DATE:20250910
DTSTAMP:20260425T164835
CREATED:20230201T223053Z
LAST-MODIFIED:20250811T223304Z
UID:11660-1757376000-1757462399@radargolf.es
SUMMARY:Ladies International Team Trophy Forty Golf Cup en Bonalba Golf (Alicante)
DESCRIPTION:
URL:https://radargolf.es/event/ladies-international-team-trophy-forty-golf-cup-en-bonalba-golf-alicante/
LOCATION:BONALBA GOLF
CATEGORIES:OTRAS COMUNIDADES,TORNEOS ALICANTE,TORNEOS C. VALENCIANA
END:VEVENT
BEGIN:VEVENT
DTSTART;VALUE=DATE:20250909
DTEND;VALUE=DATE:20250910
DTSTAMP:20260425T164835
CREATED:20230307T152710Z
LAST-MODIFIED:20250826T221207Z
UID:12987-1757376000-1757462399@radargolf.es
SUMMARY:III Torneo Volvo Vypsa en Guadalhorce Golf (Málaga)
DESCRIPTION:
URL:https://radargolf.es/event/iii-torneo-volvo-vypsa-en-guadalhorce-golf-malaga/
LOCATION:GUADALHORCE GOLF
CATEGORIES:ANDALUCÍA,TORNEOS MÁLAGA
END:VEVENT
END:VCALENDAR