BEGIN:VCALENDAR
VERSION:2.0
PRODID:-//radargolf - ECPv6.15.14//NONSGML v1.0//EN
CALSCALE:GREGORIAN
METHOD:PUBLISH
X-WR-CALNAME:radargolf
X-ORIGINAL-URL:https://radargolf.es
X-WR-CALDESC:Eventos para radargolf
REFRESH-INTERVAL;VALUE=DURATION:PT1H
X-Robots-Tag:noindex
X-PUBLISHED-TTL:PT1H
BEGIN:VTIMEZONE
TZID:Europe/Madrid
BEGIN:DAYLIGHT
TZOFFSETFROM:+0100
TZOFFSETTO:+0200
TZNAME:CEST
DTSTART:20240331T010000
END:DAYLIGHT
BEGIN:STANDARD
TZOFFSETFROM:+0200
TZOFFSETTO:+0100
TZNAME:CET
DTSTART:20241027T010000
END:STANDARD
BEGIN:DAYLIGHT
TZOFFSETFROM:+0100
TZOFFSETTO:+0200
TZNAME:CEST
DTSTART:20250330T010000
END:DAYLIGHT
BEGIN:STANDARD
TZOFFSETFROM:+0200
TZOFFSETTO:+0100
TZNAME:CET
DTSTART:20251026T010000
END:STANDARD
BEGIN:DAYLIGHT
TZOFFSETFROM:+0100
TZOFFSETTO:+0200
TZNAME:CEST
DTSTART:20260329T010000
END:DAYLIGHT
BEGIN:STANDARD
TZOFFSETFROM:+0200
TZOFFSETTO:+0100
TZNAME:CET
DTSTART:20261025T010000
END:STANDARD
END:VTIMEZONE
BEGIN:VEVENT
DTSTART;VALUE=DATE:20250801
DTEND;VALUE=DATE:20250802
DTSTAMP:20260421T230747
CREATED:20240318T070355Z
LAST-MODIFIED:20250706T224029Z
UID:24486-1754006400-1754092799@radargolf.es
SUMMARY:IV Torneo del Golf Contra el Cáncer en Aloha Golf (Málaga)
DESCRIPTION:
URL:https://radargolf.es/event/iv-torneo-del-golf-contra-el-cancer-en-aloha-golf-malaga/
LOCATION:ALOHA GOLF
CATEGORIES:ANDALUCÍA,TORNEOS MÁLAGA
END:VEVENT
BEGIN:VEVENT
DTSTART;VALUE=DATE:20250801
DTEND;VALUE=DATE:20250803
DTSTAMP:20260421T230747
CREATED:20230516T124110Z
LAST-MODIFIED:20250731T224058Z
UID:15507-1754006400-1754179199@radargolf.es
SUMMARY:IV Copa Celia Barquín en LLanes Golf (Asturias)
DESCRIPTION:
URL:https://radargolf.es/event/iv-copa-celia-barquin-en-llanes-golf-asturias/
LOCATION:LLANES GOLF
CATEGORIES:OTRAS COMUNIDADES,TORNEOS ASTURIAS
END:VEVENT
BEGIN:VEVENT
DTSTART;VALUE=DATE:20250801
DTEND;VALUE=DATE:20250803
DTSTAMP:20260421T230747
CREATED:20240508T160057Z
LAST-MODIFIED:20250627T235805Z
UID:26206-1754006400-1754179199@radargolf.es
SUMMARY:VII ProAm Juan Jiménez en Miguel Ángel Jiménez Golf Academy (Málaga)
DESCRIPTION:
URL:https://radargolf.es/event/vii-proam-juan-jimenez-en-miguel-angel-jimenez-golf-academy-malaga/
LOCATION:MIGUEL ÁNGEL JIMÉNEZ GOLF ACADEMY
CATEGORIES:ANDALUCÍA,TORNEOS MÁLAGA
END:VEVENT
BEGIN:VEVENT
DTSTART;VALUE=DATE:20250802
DTEND;VALUE=DATE:20250803
DTSTAMP:20260421T230747
CREATED:20221118T145302Z
LAST-MODIFIED:20250625T000000Z
UID:9771-1754092800-1754179199@radargolf.es
SUMMARY:Torneo Pro Shop en Islantilla Golf (Huelva)
DESCRIPTION:
URL:https://radargolf.es/event/torneo-pro-shop-en-islantilla-golf-huelva/
LOCATION:ISLANTILLA GOLF
CATEGORIES:ANDALUCÍA,TORNEOS HUELVA
END:VEVENT
BEGIN:VEVENT
DTSTART;VALUE=DATE:20250802
DTEND;VALUE=DATE:20250803
DTSTAMP:20260421T230747
CREATED:20230208T100939Z
LAST-MODIFIED:20250715T232821Z
UID:11858-1754092800-1754179199@radargolf.es
SUMMARY:Torneo Parejas de Las Lamentaciones en Aguilón Golf (Almería)
DESCRIPTION:
URL:https://radargolf.es/event/torneo-parejas-de-las-lamentaciones-en-aguilon-golf-almeria/
LOCATION:AGUILÓN GOLF
CATEGORIES:ANDALUCÍA,TORNEOS ALMERÍA
END:VEVENT
BEGIN:VEVENT
DTSTART;VALUE=DATE:20250802
DTEND;VALUE=DATE:20250803
DTSTAMP:20260421T230747
CREATED:20230228T212955Z
LAST-MODIFIED:20250715T224012Z
UID:12694-1754092800-1754179199@radargolf.es
SUMMARY:III Torneo Residencial Bonalba en Bonalba Golf (Alicante)
DESCRIPTION:
URL:https://radargolf.es/event/iii-torneo-residencial-bonalba-en-bonalba-golf-alicante/
LOCATION:BONALBA GOLF
CATEGORIES:OTRAS COMUNIDADES,TORNEOS ALICANTE,TORNEOS C. VALENCIANA
END:VEVENT
BEGIN:VEVENT
DTSTART;VALUE=DATE:20250802
DTEND;VALUE=DATE:20250803
DTSTAMP:20260421T230747
CREATED:20240209T093140Z
LAST-MODIFIED:20250720T005853Z
UID:23197-1754092800-1754179199@radargolf.es
SUMMARY:Torneo Dobles Femenino en Zarauz Golf (Guipúzcoa)
DESCRIPTION:
URL:https://radargolf.es/event/torneo-dobles-senoras-en-zarauz-golf-guipuzcoa/
LOCATION:ZARAUZ GOLF
CATEGORIES:OTRAS COMUNIDADES,TORNEOS GUIPÚZCOA,TORNEOS PAIS VASCO
END:VEVENT
BEGIN:VEVENT
DTSTART;VALUE=DATE:20250802
DTEND;VALUE=DATE:20250804
DTSTAMP:20260421T230747
CREATED:20240217T002034Z
LAST-MODIFIED:20250715T233544Z
UID:23433-1754092800-1754265599@radargolf.es
SUMMARY:XVII Torneo Concello de Sarria en Pilar-Sarria Golf (Lugo)
DESCRIPTION:
URL:https://radargolf.es/event/xvii-torneo-concello-de-sarria-en-pilar-sarria-golf-lugo-2/
LOCATION:EL PILAR SARRIA GOLF
CATEGORIES:OTRAS COMUNIDADES,TORNEOS GALICIA,TORNEOS LUGO
END:VEVENT
BEGIN:VEVENT
DTSTART;VALUE=DATE:20250803
DTEND;VALUE=DATE:20250804
DTSTAMP:20260421T230747
CREATED:20240209T093054Z
LAST-MODIFIED:20250720T010031Z
UID:23195-1754179200-1754265599@radargolf.es
SUMMARY:Torneo Dobles Masculino en Zarauz Golf (Guipúzcoa)
DESCRIPTION:
URL:https://radargolf.es/event/torneo-dobles-masculino-en-zarauz-golf-guipuzcoa/
LOCATION:ZARAUZ GOLF
CATEGORIES:OTRAS COMUNIDADES,TORNEOS GUIPÚZCOA,TORNEOS PAIS VASCO
END:VEVENT
BEGIN:VEVENT
DTSTART;VALUE=DATE:20250804
DTEND;VALUE=DATE:20250806
DTSTAMP:20260421T230747
CREATED:20250708T231317Z
LAST-MODIFIED:20250708T231317Z
UID:35722-1754265600-1754438399@radargolf.es
SUMMARY:Torneo S.A.R. D. Juan de Borbón Memorial Dª Alicia Maura en Santa Ponsa Golf (Mallorca)
DESCRIPTION:
URL:https://radargolf.es/event/torneo-s-a-r-d-juan-de-borbon-memorial-da-alicia-maura-en-santa-ponsa-golf-mallorca/
LOCATION:GOLF SANTA PONSA
CATEGORIES:OTRAS COMUNIDADES,TORNEOS BALEARES
END:VEVENT
BEGIN:VEVENT
DTSTART;VALUE=DATE:20250806
DTEND;VALUE=DATE:20250807
DTSTAMP:20260421T230747
CREATED:20230601T151751Z
LAST-MODIFIED:20250702T233558Z
UID:16066-1754438400-1754524799@radargolf.es
SUMMARY:Torneo Padres e Hijos by Joyerías Seyer en Isla Canela Links (Huelva)
DESCRIPTION:
URL:https://radargolf.es/event/torneo-joyerias-seyer-en-isla-canela-links-huelva/
LOCATION:ISLA CANELA LINKS
CATEGORIES:ANDALUCÍA,TORNEOS HUELVA
END:VEVENT
BEGIN:VEVENT
DTSTART;VALUE=DATE:20250806
DTEND;VALUE=DATE:20250807
DTSTAMP:20260421T230747
CREATED:20240415T184457Z
LAST-MODIFIED:20250625T000040Z
UID:25454-1754438400-1754524799@radargolf.es
SUMMARY:Torneo Amigos de Islantilla en Islantilla Golf (Huelva)
DESCRIPTION:
URL:https://radargolf.es/event/torneo-amigos-de-islantilla-en-islantilla-golf-huelva/
LOCATION:ISLANTILLA GOLF
CATEGORIES:ANDALUCÍA,TORNEOS HUELVA
END:VEVENT
BEGIN:VEVENT
DTSTART;VALUE=DATE:20250807
DTEND;VALUE=DATE:20250808
DTSTAMP:20260421T230747
CREATED:20230413T203307Z
LAST-MODIFIED:20250618T224407Z
UID:14180-1754524800-1754611199@radargolf.es
SUMMARY:Gem Summer Slam en Capdepera Golf (Mallorca)
DESCRIPTION:
URL:https://radargolf.es/event/gem-summer-slam-en-capdepera-golf-mallorca-2/
LOCATION:CAPDEPERA GOLF
CATEGORIES:OTRAS COMUNIDADES,TORNEOS BALEARES
END:VEVENT
BEGIN:VEVENT
DTSTART;VALUE=DATE:20250807
DTEND;VALUE=DATE:20250808
DTSTAMP:20260421T230747
CREATED:20230601T081603Z
LAST-MODIFIED:20250708T231030Z
UID:16020-1754524800-1754611199@radargolf.es
SUMMARY:Torneo Parejas en Santa Ponsa Golf (Mallorca)
DESCRIPTION:
URL:https://radargolf.es/event/torneo-parejas-en-santa-ponsa-golf-mallorca/
LOCATION:GOLF SANTA PONSA
CATEGORIES:OTRAS COMUNIDADES,TORNEOS BALEARES
END:VEVENT
BEGIN:VEVENT
DTSTART;VALUE=DATE:20250808
DTEND;VALUE=DATE:20250809
DTSTAMP:20260421T230747
CREATED:20230601T151628Z
LAST-MODIFIED:20250702T233634Z
UID:16062-1754611200-1754697599@radargolf.es
SUMMARY:Torneo www.seguropordias en Isla Canela Golf (Huelva)
DESCRIPTION:
URL:https://radargolf.es/event/torneo-www-seguropordias-en-isla-canela-golf-huelva/
LOCATION:ISLA CANELA GOLF
CATEGORIES:ANDALUCÍA,TORNEOS HUELVA
END:VEVENT
BEGIN:VEVENT
DTSTART;VALUE=DATE:20250808
DTEND;VALUE=DATE:20250811
DTSTAMP:20260421T230747
CREATED:20240209T093007Z
LAST-MODIFIED:20250720T010143Z
UID:23193-1754611200-1754870399@radargolf.es
SUMMARY:Torneo Absoluto en Zarauz Golf (Guipúzcoa)
DESCRIPTION:
URL:https://radargolf.es/event/torneo-absoluto-en-zarauz-golf-guipuzcoa/
LOCATION:ZARAUZ GOLF
CATEGORIES:OTRAS COMUNIDADES,TORNEOS GUIPÚZCOA,TORNEOS PAIS VASCO
END:VEVENT
BEGIN:VEVENT
DTSTART;VALUE=DATE:20250809
DTEND;VALUE=DATE:20250810
DTSTAMP:20260421T230747
CREATED:20230208T102711Z
LAST-MODIFIED:20250715T233616Z
UID:11889-1754697600-1754783999@radargolf.es
SUMMARY:XVII Torneo Concello de Sarria en Pilar-Sarria Golf (Lugo)
DESCRIPTION:
URL:https://radargolf.es/event/xvii-torneo-concello-de-sarria-en-pilar-sarria-golf-lugo-3/
LOCATION:EL PILAR SARRIA GOLF
CATEGORIES:OTRAS COMUNIDADES,TORNEOS GALICIA,TORNEOS LUGO
END:VEVENT
BEGIN:VEVENT
DTSTART;VALUE=DATE:20250809
DTEND;VALUE=DATE:20250810
DTSTAMP:20260421T230747
CREATED:20230516T123317Z
LAST-MODIFIED:20250608T223307Z
UID:15499-1754697600-1754783999@radargolf.es
SUMMARY:XXIX Trofeo El Comercio Abanca en Castropol Golf (Asturias)
DESCRIPTION:
URL:https://radargolf.es/event/xxix-trofeo-el-comercio-abanca-en-castropol-golf-asturias/
LOCATION:CASTROPOL GOLF
CATEGORIES:OTRAS COMUNIDADES,TORNEOS ASTURIAS
END:VEVENT
BEGIN:VEVENT
DTSTART;VALUE=DATE:20250809
DTEND;VALUE=DATE:20250810
DTSTAMP:20260421T230747
CREATED:20230610T210858Z
LAST-MODIFIED:20250729T235737Z
UID:16302-1754697600-1754783999@radargolf.es
SUMMARY:XI Copa Presidente Bridgestone en Valle del Este Golf (Almería)
DESCRIPTION:
URL:https://radargolf.es/event/xi-copa-presidente-bridgestone-en-valle-del-este-golf-almeria/
LOCATION:VALLE DEL ESTE GOLF
CATEGORIES:ANDALUCÍA,TORNEOS ALMERÍA
END:VEVENT
BEGIN:VEVENT
DTSTART;VALUE=DATE:20250809
DTEND;VALUE=DATE:20250810
DTSTAMP:20260421T230747
CREATED:20230511T212510Z
LAST-MODIFIED:20250708T231851Z
UID:15150-1754697600-1754783999@radargolf.es
SUMMARY:Torneo Albatross 14 en Nuevo Portil Golf (Huelva)
DESCRIPTION:
URL:https://radargolf.es/event/torneo-albatross-14-en-nuevo-portil-golf-huelva/
LOCATION:GOLF NUEVO PORTIL
CATEGORIES:ANDALUCÍA,TORNEOS HUELVA
END:VEVENT
BEGIN:VEVENT
DTSTART;VALUE=DATE:20250809
DTEND;VALUE=DATE:20250810
DTSTAMP:20260421T230747
CREATED:20230926T222128Z
LAST-MODIFIED:20250805T232228Z
UID:19347-1754697600-1754783999@radargolf.es
SUMMARY:XXI Copa Condesa de Villa Padierna en Villa Padierna Golf (Málaga)
DESCRIPTION:
URL:https://radargolf.es/event/xxi-copa-condesa-de-villapadierna-en-villa-padierna-golf-malaga/
LOCATION:VILLA PADIERNA GOLF
CATEGORIES:ANDALUCÍA,TORNEOS MÁLAGA
END:VEVENT
BEGIN:VEVENT
DTSTART;VALUE=DATE:20250809
DTEND;VALUE=DATE:20250810
DTSTAMP:20260421T230747
CREATED:20240415T184337Z
LAST-MODIFIED:20250805T225602Z
UID:25452-1754697600-1754783999@radargolf.es
SUMMARY:IV Torneo Golf y Salud Memorial Miguel Fernández Márquez en Islantilla Golf (Huelva)
DESCRIPTION:
URL:https://radargolf.es/event/memorial-miguel-fernandez-en-islantilla-golf-huelva/
LOCATION:ISLANTILLA GOLF
CATEGORIES:ANDALUCÍA,TORNEOS HUELVA
END:VEVENT
BEGIN:VEVENT
DTSTART;VALUE=DATE:20250809
DTEND;VALUE=DATE:20250810
DTSTAMP:20260421T230747
CREATED:20240429T185808Z
LAST-MODIFIED:20250702T233910Z
UID:25919-1754697600-1754783999@radargolf.es
SUMMARY:Torneo Thebussem en Isla Canela Links (Huelva)
DESCRIPTION:
URL:https://radargolf.es/event/torneo-thebussem-en-isla-canela-links-huelva/
LOCATION:ISLA CANELA LINKS
CATEGORIES:ANDALUCÍA,TORNEOS HUELVA
END:VEVENT
BEGIN:VEVENT
DTSTART;VALUE=DATE:20250813
DTEND;VALUE=DATE:20250814
DTSTAMP:20260421T230747
CREATED:20230322T070204Z
LAST-MODIFIED:20250424T230325Z
UID:13529-1755043200-1755129599@radargolf.es
SUMMARY:XXII Torneo Solidario Piel de Mariposa en Marbella Club Golf (Málaga)
DESCRIPTION: 
URL:https://radargolf.es/event/xxii-torneo-solidario-piel-de-mariposa-en-marbella-club-golf-malaga/
LOCATION:MARBELLA CLUB GOLF
CATEGORIES:ANDALUCÍA,TORNEOS MÁLAGA
END:VEVENT
BEGIN:VEVENT
DTSTART;VALUE=DATE:20250813
DTEND;VALUE=DATE:20250814
DTSTAMP:20260421T230747
CREATED:20230516T140700Z
LAST-MODIFIED:20250725T230357Z
UID:15524-1755043200-1755129599@radargolf.es
SUMMARY:Torneo Padres e Hijos en Finca Cortesín Golf (Málaga)
DESCRIPTION:  \n 
URL:https://radargolf.es/event/torneo-padres-e-hijos-en-finca-cortesin-golf-malaga/
LOCATION:FINCA CORTESÍN
CATEGORIES:ANDALUCÍA,TORNEOS MÁLAGA
END:VEVENT
BEGIN:VEVENT
DTSTART;VALUE=DATE:20250814
DTEND;VALUE=DATE:20250815
DTSTAMP:20260421T230747
CREATED:20230601T151146Z
LAST-MODIFIED:20250702T233838Z
UID:16060-1755129600-1755215999@radargolf.es
SUMMARY:Torneo Isla Canela en Isla Canela Golf (Huelva)
DESCRIPTION:
URL:https://radargolf.es/event/torneo-isla-canela-en-isla-canela-golf-huelva/
LOCATION:ISLA CANELA GOLF
CATEGORIES:ANDALUCÍA,TORNEOS HUELVA
END:VEVENT
BEGIN:VEVENT
DTSTART;VALUE=DATE:20250814
DTEND;VALUE=DATE:20250815
DTSTAMP:20260421T230747
CREATED:20230608T175314Z
LAST-MODIFIED:20250622T193720Z
UID:16256-1755129600-1755215999@radargolf.es
SUMMARY:Torneo Villa de Rota Cruzcampo en Costa Ballena Ocean Golf (Cádiz)
DESCRIPTION:
URL:https://radargolf.es/event/torneo-villa-de-rota-cruzcampo-en-costa-ballena-ocean-golf-cadiz/
LOCATION:COSTA BALLENA OCEAN CLUB
CATEGORIES:ANDALUCÍA,TORNEOS CÁDIZ
END:VEVENT
BEGIN:VEVENT
DTSTART;VALUE=DATE:20250815
DTEND;VALUE=DATE:20250816
DTSTAMP:20260421T230747
CREATED:20230228T195531Z
LAST-MODIFIED:20250630T225025Z
UID:12571-1755216000-1755302399@radargolf.es
SUMMARY:Los Naranjos Open en Los Naranjos Golf (Málaga)
DESCRIPTION:
URL:https://radargolf.es/event/los-naranjos-open-en-los-naranjos-golf-malaga/
LOCATION:LOS NARANJOS GOLF
CATEGORIES:ANDALUCÍA,TORNEOS MÁLAGA
END:VEVENT
BEGIN:VEVENT
DTSTART;VALUE=DATE:20250816
DTEND;VALUE=DATE:20250817
DTSTAMP:20260421T230747
CREATED:20220601T211405Z
LAST-MODIFIED:20250805T230928Z
UID:7006-1755302400-1755388799@radargolf.es
SUMMARY:I Trofeo Viajes Master Internacional en Parador de Golf (Málaga)
DESCRIPTION:  \n 
URL:https://radargolf.es/event/i-trofeo-viajes-master-internacional-en-parador-de-golf-malaga/
LOCATION:PARADOR MALAGA GOLF
CATEGORIES:ANDALUCÍA,TORNEOS MÁLAGA
END:VEVENT
BEGIN:VEVENT
DTSTART;VALUE=DATE:20250816
DTEND;VALUE=DATE:20250817
DTSTAMP:20260421T230747
CREATED:20230208T101045Z
LAST-MODIFIED:20250702T230508Z
UID:11860-1755302400-1755388799@radargolf.es
SUMMARY:Torneo Parejas Copa de Plata Estrella de Levante en Aguilón Golf (Almería)
DESCRIPTION:
URL:https://radargolf.es/event/torneo-parejas-copa-de-plata-estrella-de-levante-en-aguilon-golf-almeria/
LOCATION:AGUILÓN GOLF
CATEGORIES:ANDALUCÍA,TORNEOS ALMERÍA
END:VEVENT
END:VCALENDAR