BEGIN:VCALENDAR
VERSION:2.0
PRODID:-//radargolf - ECPv6.15.14//NONSGML v1.0//EN
CALSCALE:GREGORIAN
METHOD:PUBLISH
X-WR-CALNAME:radargolf
X-ORIGINAL-URL:https://radargolf.es
X-WR-CALDESC:Eventos para radargolf
REFRESH-INTERVAL;VALUE=DURATION:PT1H
X-Robots-Tag:noindex
X-PUBLISHED-TTL:PT1H
BEGIN:VTIMEZONE
TZID:Europe/Madrid
BEGIN:DAYLIGHT
TZOFFSETFROM:+0100
TZOFFSETTO:+0200
TZNAME:CEST
DTSTART:20250330T010000
END:DAYLIGHT
BEGIN:STANDARD
TZOFFSETFROM:+0200
TZOFFSETTO:+0100
TZNAME:CET
DTSTART:20251026T010000
END:STANDARD
BEGIN:DAYLIGHT
TZOFFSETFROM:+0100
TZOFFSETTO:+0200
TZNAME:CEST
DTSTART:20260329T010000
END:DAYLIGHT
BEGIN:STANDARD
TZOFFSETFROM:+0200
TZOFFSETTO:+0100
TZNAME:CET
DTSTART:20261025T010000
END:STANDARD
BEGIN:DAYLIGHT
TZOFFSETFROM:+0100
TZOFFSETTO:+0200
TZNAME:CEST
DTSTART:20270328T010000
END:DAYLIGHT
BEGIN:STANDARD
TZOFFSETFROM:+0200
TZOFFSETTO:+0100
TZNAME:CET
DTSTART:20271031T010000
END:STANDARD
END:VTIMEZONE
BEGIN:VEVENT
DTSTART;VALUE=DATE:20260425
DTEND;VALUE=DATE:20260426
DTSTAMP:20260421T225712
CREATED:20230112T223341Z
LAST-MODIFIED:20260415T231254Z
UID:10874-1777075200-1777161599@radargolf.es
SUMMARY:Circuito Fuera de Límites Polo Swing en Aldeamayor Golf (Valladolid)
DESCRIPTION:Screenshot
URL:https://radargolf.es/event/circuito-fuera-de-limites-polo-swing-en-aldeamayor-golf-valladolid/
LOCATION:ALDEAMAYOR GOLF
CATEGORIES:OTRAS COMUNIDADES,TORNEOS CASTILLA Y LEÓN,TORNEOS VALLADOLID
END:VEVENT
BEGIN:VEVENT
DTSTART;VALUE=DATE:20260425
DTEND;VALUE=DATE:20260426
DTSTAMP:20260421T225712
CREATED:20230303T060424Z
LAST-MODIFIED:20260404T221901Z
UID:12846-1777075200-1777161599@radargolf.es
SUMMARY:Circuito Huelva La Luz en Entrepinos Golf (Valladolid)
DESCRIPTION:
URL:https://radargolf.es/event/circuito-huelva-la-luz-en-entrepinos-golf-valladolid/
LOCATION:ENTREPINOS GOLF
CATEGORIES:OTRAS COMUNIDADES,TORNEOS CASTILLA Y LEÓN,TORNEOS VALLADOLID
END:VEVENT
BEGIN:VEVENT
DTSTART;VALUE=DATE:20260428
DTEND;VALUE=DATE:20260429
DTSTAMP:20260421T225712
CREATED:20230324T100448Z
LAST-MODIFIED:20260322T221826Z
UID:13642-1777334400-1777420799@radargolf.es
SUMMARY:XVII Liga Ladies en La Galera Golf (Valladolid)
DESCRIPTION:
URL:https://radargolf.es/event/xvii-liga-ladies-en-la-galera-golf-valladolid/
LOCATION:LA GALERA GOLF
CATEGORIES:OTRAS COMUNIDADES,TORNEOS CASTILLA Y LEÓN,TORNEOS VALLADOLID
END:VEVENT
END:VCALENDAR