BEGIN:VCALENDAR
VERSION:2.0
PRODID:-//radargolf - ECPv6.15.14//NONSGML v1.0//EN
CALSCALE:GREGORIAN
METHOD:PUBLISH
X-ORIGINAL-URL:https://radargolf.es
X-WR-CALDESC:Eventos para radargolf
REFRESH-INTERVAL;VALUE=DURATION:PT1H
X-Robots-Tag:noindex
X-PUBLISHED-TTL:PT1H
BEGIN:VTIMEZONE
TZID:Europe/Madrid
BEGIN:DAYLIGHT
TZOFFSETFROM:+0100
TZOFFSETTO:+0200
TZNAME:CEST
DTSTART:20250330T010000
END:DAYLIGHT
BEGIN:STANDARD
TZOFFSETFROM:+0200
TZOFFSETTO:+0100
TZNAME:CET
DTSTART:20251026T010000
END:STANDARD
BEGIN:DAYLIGHT
TZOFFSETFROM:+0100
TZOFFSETTO:+0200
TZNAME:CEST
DTSTART:20260329T010000
END:DAYLIGHT
BEGIN:STANDARD
TZOFFSETFROM:+0200
TZOFFSETTO:+0100
TZNAME:CET
DTSTART:20261025T010000
END:STANDARD
BEGIN:DAYLIGHT
TZOFFSETFROM:+0100
TZOFFSETTO:+0200
TZNAME:CEST
DTSTART:20270328T010000
END:DAYLIGHT
BEGIN:STANDARD
TZOFFSETFROM:+0200
TZOFFSETTO:+0100
TZNAME:CET
DTSTART:20271031T010000
END:STANDARD
END:VTIMEZONE
BEGIN:VEVENT
DTSTART;VALUE=DATE:20260526
DTEND;VALUE=DATE:20260527
DTSTAMP:20260421T230309
CREATED:20250805T223206Z
LAST-MODIFIED:20260329T095248Z
UID:36126-1779753600-1779839999@radargolf.es
SUMMARY:Liga Senior en Aeroclub Vigo Golf (Pontevedra)
DESCRIPTION:
URL:https://radargolf.es/event/liga-senior-en-aeroclub-vigo-golf-pontevedra-2/
LOCATION:AEROCLUB VIGO GOLF
CATEGORIES:OTRAS COMUNIDADES,TORNEOS GALICIA,TORNEOS PONTEVEDRA
END:VEVENT
BEGIN:VEVENT
DTSTART;VALUE=DATE:20260530
DTEND;VALUE=DATE:20260531
DTSTAMP:20260421T230309
CREATED:20260404T222129Z
LAST-MODIFIED:20260404T222129Z
UID:42663-1780099200-1780185599@radargolf.es
SUMMARY:Circuito Huelva La Luz en Meis Golf (Pontevedra)
DESCRIPTION:
URL:https://radargolf.es/event/circuito-huelva-la-luz-en-meis-golf-pontevedra/
LOCATION:MEIS GOLF
CATEGORIES:TORNEOS GALICIA,TORNEOS PONTEVEDRA
END:VEVENT
BEGIN:VEVENT
DTSTART;VALUE=DATE:20260531
DTEND;VALUE=DATE:20260601
DTSTAMP:20260421T230309
CREATED:20250805T223450Z
LAST-MODIFIED:20260329T094713Z
UID:36132-1780185600-1780271999@radargolf.es
SUMMARY:Liga 5ª Categoría y Noveles en Aeroclub Vigo Golf (Pontevedra)
DESCRIPTION:
URL:https://radargolf.es/event/liga-5a-categoria-y-noveles-en-aeroclub-vigo-golf-pontevedra-2/
LOCATION:AEROCLUB VIGO GOLF
CATEGORIES:OTRAS COMUNIDADES,TORNEOS GALICIA,TORNEOS PONTEVEDRA
END:VEVENT
BEGIN:VEVENT
DTSTART;VALUE=DATE:20260614
DTEND;VALUE=DATE:20260615
DTSTAMP:20260421T230309
CREATED:20260329T094430Z
LAST-MODIFIED:20260329T094430Z
UID:42455-1781395200-1781481599@radargolf.es
SUMMARY:Liga Individual en Chan do Fento Golf (Pontevedra)
DESCRIPTION:
URL:https://radargolf.es/event/liga-individual-en-chan-do-fento-golf-pontevedra-3/
LOCATION:CHAN DO FENTO
CATEGORIES:TORNEOS GALICIA,TORNEOS PONTEVEDRA
END:VEVENT
BEGIN:VEVENT
DTSTART;VALUE=DATE:20260620
DTEND;VALUE=DATE:20260621
DTSTAMP:20260421T230309
CREATED:20260226T132259Z
LAST-MODIFIED:20260226T132259Z
UID:41699-1781913600-1781999999@radargolf.es
SUMMARY:Circuito Premium Mahou San Miguel by Gambito Golf en Ria de Vigo Golf (Pontevedra)
DESCRIPTION:
URL:https://radargolf.es/event/circuito-premium-mahou-san-miguel-by-gambito-golf-en-ria-de-vigo-golf-pontevedra/
LOCATION:RIA DE VIGO GOLF
CATEGORIES:TORNEOS GALICIA,TORNEOS PONTEVEDRA
END:VEVENT
BEGIN:VEVENT
DTSTART;VALUE=DATE:20260630
DTEND;VALUE=DATE:20260701
DTSTAMP:20260421T230309
CREATED:20250805T223731Z
LAST-MODIFIED:20260329T095318Z
UID:36138-1782777600-1782863999@radargolf.es
SUMMARY:Liga Senior en Aeroclub Vigo Golf (Pontevedra)
DESCRIPTION:
URL:https://radargolf.es/event/liga-senior-en-aeroclub-vigo-golf-pontevedra-3/
LOCATION:AEROCLUB VIGO GOLF
CATEGORIES:OTRAS COMUNIDADES,TORNEOS GALICIA,TORNEOS PONTEVEDRA
END:VEVENT
BEGIN:VEVENT
DTSTART;VALUE=DATE:20260703
DTEND;VALUE=DATE:20260706
DTSTAMP:20260421T230309
CREATED:20240114T175255Z
LAST-MODIFIED:20260120T235607Z
UID:22228-1783036800-1783295999@radargolf.es
SUMMARY:Ranking P&P Galicia 2026 en Ria de Vigo Golf (Pontevedra)
DESCRIPTION:
URL:https://radargolf.es/event/ranking-pp-galicia-2026-en-ria-de-vigo-golf-pontevedra/
LOCATION:RIA DE VIGO GOLF
CATEGORIES:OTRAS COMUNIDADES,TORNEOS GALICIA,TORNEOS PONTEVEDRA
END:VEVENT
BEGIN:VEVENT
DTSTART;VALUE=DATE:20260726
DTEND;VALUE=DATE:20260727
DTSTAMP:20260421T230309
CREATED:20250805T223543Z
LAST-MODIFIED:20260329T094755Z
UID:36134-1785024000-1785110399@radargolf.es
SUMMARY:Liga 5ª Categoría y Noveles en Aeroclub Vigo Golf (Pontevedra)
DESCRIPTION:
URL:https://radargolf.es/event/liga-5a-categoria-y-noveles-en-aeroclub-vigo-golf-pontevedra-3/
LOCATION:AEROCLUB VIGO GOLF
CATEGORIES:OTRAS COMUNIDADES,TORNEOS GALICIA,TORNEOS PONTEVEDRA
END:VEVENT
BEGIN:VEVENT
DTSTART;VALUE=DATE:20260925
DTEND;VALUE=DATE:20260928
DTSTAMP:20260421T230309
CREATED:20260120T235809Z
LAST-MODIFIED:20260120T235809Z
UID:40298-1790294400-1790553599@radargolf.es
SUMMARY:Ranking P&P Galicia 2026 en Mercantil P&P (Pontevedra)
DESCRIPTION:
URL:https://radargolf.es/event/ranking-pp-galicia-2026-en-mercantil-pp-pontevedra/
CATEGORIES:OTRAS COMUNIDADES,TORNEOS GALICIA,TORNEOS PONTEVEDRA
END:VEVENT
BEGIN:VEVENT
DTSTART;VALUE=DATE:20260929
DTEND;VALUE=DATE:20260930
DTSTAMP:20260421T230309
CREATED:20240301T232017Z
LAST-MODIFIED:20260329T095346Z
UID:23949-1790640000-1790726399@radargolf.es
SUMMARY:Liga Senior en Aeroclub Vigo Golf (Pontevedra)
DESCRIPTION:
URL:https://radargolf.es/event/liga-senior-en-aeroclub-vigo-golf-pontevedra-4/
LOCATION:AEROCLUB VIGO GOLF
CATEGORIES:OTRAS COMUNIDADES,TORNEOS GALICIA,TORNEOS PONTEVEDRA
END:VEVENT
BEGIN:VEVENT
DTSTART;VALUE=DATE:20261004
DTEND;VALUE=DATE:20261005
DTSTAMP:20260421T230309
CREATED:20250805T223109Z
LAST-MODIFIED:20260329T094840Z
UID:36124-1791072000-1791158399@radargolf.es
SUMMARY:Liga 5ª Categoría y Noveles en Aeroclub Vigo Golf (Pontevedra)
DESCRIPTION:
URL:https://radargolf.es/event/liga-5a-categoria-y-noveles-en-aeroclub-vigo-golf-pontevedra-4/
LOCATION:AEROCLUB VIGO GOLF
CATEGORIES:OTRAS COMUNIDADES,TORNEOS GALICIA,TORNEOS PONTEVEDRA
END:VEVENT
BEGIN:VEVENT
DTSTART;VALUE=DATE:20261027
DTEND;VALUE=DATE:20261028
DTSTAMP:20260421T230309
CREATED:20250805T223256Z
LAST-MODIFIED:20260329T095439Z
UID:36128-1793059200-1793145599@radargolf.es
SUMMARY:Liga Senior en Aeroclub Vigo Golf (Pontevedra)
DESCRIPTION:
URL:https://radargolf.es/event/liga-senior-en-aeroclub-vigo-golf-pontevedra-5/
LOCATION:AEROCLUB VIGO GOLF
CATEGORIES:OTRAS COMUNIDADES,TORNEOS GALICIA,TORNEOS PONTEVEDRA
END:VEVENT
END:VCALENDAR