BEGIN:VCALENDAR
VERSION:2.0
PRODID:-//radargolf - ECPv6.15.14//NONSGML v1.0//EN
CALSCALE:GREGORIAN
METHOD:PUBLISH
X-WR-CALNAME:radargolf
X-ORIGINAL-URL:https://radargolf.es
X-WR-CALDESC:Eventos para radargolf
REFRESH-INTERVAL;VALUE=DURATION:PT1H
X-Robots-Tag:noindex
X-PUBLISHED-TTL:PT1H
BEGIN:VTIMEZONE
TZID:Europe/Madrid
BEGIN:DAYLIGHT
TZOFFSETFROM:+0100
TZOFFSETTO:+0200
TZNAME:CEST
DTSTART:20250330T010000
END:DAYLIGHT
BEGIN:STANDARD
TZOFFSETFROM:+0200
TZOFFSETTO:+0100
TZNAME:CET
DTSTART:20251026T010000
END:STANDARD
BEGIN:DAYLIGHT
TZOFFSETFROM:+0100
TZOFFSETTO:+0200
TZNAME:CEST
DTSTART:20260329T010000
END:DAYLIGHT
BEGIN:STANDARD
TZOFFSETFROM:+0200
TZOFFSETTO:+0100
TZNAME:CET
DTSTART:20261025T010000
END:STANDARD
BEGIN:DAYLIGHT
TZOFFSETFROM:+0100
TZOFFSETTO:+0200
TZNAME:CEST
DTSTART:20270328T010000
END:DAYLIGHT
BEGIN:STANDARD
TZOFFSETFROM:+0200
TZOFFSETTO:+0100
TZNAME:CET
DTSTART:20271031T010000
END:STANDARD
END:VTIMEZONE
BEGIN:VEVENT
DTSTART;VALUE=DATE:20260516
DTEND;VALUE=DATE:20260517
DTSTAMP:20260422T110806
CREATED:20230307T155310Z
LAST-MODIFIED:20260404T222009Z
UID:13007-1778889600-1778975999@radargolf.es
SUMMARY:Circuito Huelva La Luz en Laukariz Golf (Vizcaya)
DESCRIPTION:
URL:https://radargolf.es/event/circuito-huelva-la-luz-en-laukariz-golf-vizcaya/
LOCATION:CLUB DE CAMPO LAUKARIZ
CATEGORIES:OTRAS COMUNIDADES,TORNEOS PAIS VASCO,TORNEOS VIZCAYA
END:VEVENT
BEGIN:VEVENT
DTSTART;VALUE=DATE:20260528
DTEND;VALUE=DATE:20260529
DTSTAMP:20260422T110806
CREATED:20230307T194951Z
LAST-MODIFIED:20251124T224226Z
UID:13068-1779926400-1780012799@radargolf.es
SUMMARY:XIX Campeonato Senior de Vizcaya en Laukariz Golf (Vizcaya)
DESCRIPTION:
URL:https://radargolf.es/event/xix-campeonato-senior-de-vizcaya-en-laukariz-golf-vizcaya/
LOCATION:CLUB DE CAMPO LAUKARIZ
CATEGORIES:OTRAS COMUNIDADES,TORNEOS PAIS VASCO,TORNEOS VIZCAYA
END:VEVENT
BEGIN:VEVENT
DTSTART;VALUE=DATE:20260530
DTEND;VALUE=DATE:20260531
DTSTAMP:20260422T110806
CREATED:20260226T131902Z
LAST-MODIFIED:20260226T131902Z
UID:41692-1780099200-1780185599@radargolf.es
SUMMARY:Circuito Premium Mahou San Miguel by Gambito Golf en Neguri Golf (Vizcaya)
DESCRIPTION:
URL:https://radargolf.es/event/circuito-premium-mahou-san-miguel-by-gambito-golf-en-neguri-golf-vizcaya/
LOCATION:GOLF NEGURI
CATEGORIES:TORNEOS PAIS VASCO,TORNEOS VIZCAYA
END:VEVENT
BEGIN:VEVENT
DTSTART;VALUE=DATE:20260606
DTEND;VALUE=DATE:20260607
DTSTAMP:20260422T110806
CREATED:20230203T221028Z
LAST-MODIFIED:20260311T163043Z
UID:11700-1780704000-1780790399@radargolf.es
SUMMARY:Circuito Nacional Summum Golf en Larrabea Golf (Álava)
DESCRIPTION:
URL:https://radargolf.es/event/circuito-nacional-summum-en-larrabea-golf-alava/
LOCATION:LARRABEA GOLF
CATEGORIES:OTRAS COMUNIDADES,TORNEOS ÁLAVA,TORNEOS PAIS VASCO
END:VEVENT
BEGIN:VEVENT
DTSTART;VALUE=DATE:20260616
DTEND;VALUE=DATE:20260617
DTSTAMP:20260422T110806
CREATED:20230717T212717Z
LAST-MODIFIED:20260316T200531Z
UID:17414-1781568000-1781654399@radargolf.es
SUMMARY:XXVII Ruta del Vino de Golf en Larrabea Golf (Vizcaya)
DESCRIPTION:
URL:https://radargolf.es/event/xxvii-ruta-del-vino-de-golf-en-larrabea-golf-vizcaya/
LOCATION:LARRABEA GOLF
CATEGORIES:OTRAS COMUNIDADES,TORNEOS PAIS VASCO,TORNEOS VIZCAYA
END:VEVENT
BEGIN:VEVENT
DTSTART;VALUE=DATE:20260619
DTEND;VALUE=DATE:20260622
DTSTAMP:20260422T110806
CREATED:20230124T184956Z
LAST-MODIFIED:20260117T003304Z
UID:11235-1781827200-1782086399@radargolf.es
SUMMARY:Circuito Corporate en Golf Neguri (Vizcaya)
DESCRIPTION:  \n  \n  \n 
URL:https://radargolf.es/event/circuito-corporate-en-golf-neguri-vizcaya/
LOCATION:GOLF NEGURI
CATEGORIES:OTRAS COMUNIDADES,TORNEOS PAIS VASCO,TORNEOS VIZCAYA
END:VEVENT
BEGIN:VEVENT
DTSTART;VALUE=DATE:20260626
DTEND;VALUE=DATE:20260627
DTSTAMP:20260422T110806
CREATED:20260321T002853Z
LAST-MODIFIED:20260321T002853Z
UID:42209-1782432000-1782518399@radargolf.es
SUMMARY:Circuito Woman Golf Summum en Laukariz Golf (Vizcaya)
DESCRIPTION:
URL:https://radargolf.es/event/circuito-woman-golf-summum-en-laukariz-golf-vizcaya/
CATEGORIES:TORNEOS PAIS VASCO,TORNEOS VIZCAYA
END:VEVENT
BEGIN:VEVENT
DTSTART;VALUE=DATE:20260627
DTEND;VALUE=DATE:20260628
DTSTAMP:20260422T110806
CREATED:20260311T163146Z
LAST-MODIFIED:20260311T163146Z
UID:41980-1782518400-1782604799@radargolf.es
SUMMARY:Circuito Nacional Summum Golf en Laukariz Golf (Vizcaya)
DESCRIPTION:
URL:https://radargolf.es/event/circuito-nacional-summum-golf-en-laukariz-golf-vizcaya/
LOCATION:CLUB DE CAMPO LAUKARIZ
CATEGORIES:TORNEOS PAIS VASCO,TORNEOS VIZCAYA
END:VEVENT
BEGIN:VEVENT
DTSTART;VALUE=DATE:20260711
DTEND;VALUE=DATE:20260712
DTSTAMP:20260422T110806
CREATED:20230301T103846Z
LAST-MODIFIED:20260226T124645Z
UID:12748-1783728000-1783814399@radargolf.es
SUMMARY:Circuito Premium Mahou San Miguel by Gambito Golf en Basozabal Golf (Guipuzcoa)
DESCRIPTION:  \n  \n  \n  \n 
URL:https://radargolf.es/event/circuito-premium-mahou-san-miguel-by-gambito-golf-en-basozabal-golf-guipuzcoa/
LOCATION:BASOZABAL GOLF
CATEGORIES:OTRAS COMUNIDADES,TORNEOS GUIPÚZCOA,TORNEOS PAIS VASCO
END:VEVENT
BEGIN:VEVENT
DTSTART;VALUE=DATE:20260717
DTEND;VALUE=DATE:20260718
DTSTAMP:20260422T110806
CREATED:20230124T104246Z
LAST-MODIFIED:20251124T224645Z
UID:11213-1784246400-1784332799@radargolf.es
SUMMARY:Campeonato Infantil de Vizcaya en Club de Campo Laukariz (Vizcaya)
DESCRIPTION:  \n \n  \n 
URL:https://radargolf.es/event/campeonato-infantil-de-vizcaya-en-club-de-campo-laukariz-vizcaya/
LOCATION:CLUB DE CAMPO LAUKARIZ
CATEGORIES:OTRAS COMUNIDADES,TORNEOS PAIS VASCO,TORNEOS VIZCAYA
END:VEVENT
BEGIN:VEVENT
DTSTART;VALUE=DATE:20260905
DTEND;VALUE=DATE:20260906
DTSTAMP:20260422T110806
CREATED:20230307T155812Z
LAST-MODIFIED:20260311T162721Z
UID:13016-1788566400-1788652799@radargolf.es
SUMMARY:Circuito Nacional Summum Golf en Basozabal Golf (Guipuzcoa)
DESCRIPTION:
URL:https://radargolf.es/event/circuito-nacional-summum-golf-en-basozabal-golf-guipuzcoa/
LOCATION:BASOZABAL GOLF
CATEGORIES:OTRAS COMUNIDADES,TORNEOS GUIPÚZCOA,TORNEOS PAIS VASCO
END:VEVENT
BEGIN:VEVENT
DTSTART;VALUE=DATE:20260913
DTEND;VALUE=DATE:20260914
DTSTAMP:20260422T110806
CREATED:20251124T224530Z
LAST-MODIFIED:20251124T224530Z
UID:37840-1789257600-1789343999@radargolf.es
SUMMARY:XV Campeonato de Vizcaya P&P en Palacio Urgoiti Golf (Vizcaya)
DESCRIPTION:
URL:https://radargolf.es/event/xv-campeonato-de-vizcaya-pp-en-palacio-urgoiti-golf-vizcaya/
LOCATION:PALACIO URGOITI GOLF
CATEGORIES:OTRAS COMUNIDADES,TORNEOS PAIS VASCO,TORNEOS VIZCAYA
END:VEVENT
BEGIN:VEVENT
DTSTART;VALUE=DATE:20260925
DTEND;VALUE=DATE:20260927
DTSTAMP:20260422T110806
CREATED:20240507T183341Z
LAST-MODIFIED:20260117T004418Z
UID:26167-1790294400-1790467199@radargolf.es
SUMMARY:Circuito Corporate en San Sebastián Golf (Guipúzcoa)
DESCRIPTION:
URL:https://radargolf.es/event/circuito-corporate-en-san-sebastian-golf-guipuzcoa/
LOCATION:SAN SEBASTIÁN GOLF
CATEGORIES:OTRAS COMUNIDADES,TORNEOS GUIPÚZCOA,TORNEOS PAIS VASCO
END:VEVENT
BEGIN:VEVENT
DTSTART;VALUE=DATE:20261014
DTEND;VALUE=DATE:20261015
DTSTAMP:20260422T110806
CREATED:20240424T171421Z
LAST-MODIFIED:20251124T224814Z
UID:25760-1791936000-1792022399@radargolf.es
SUMMARY:XIV Copa Femenina de Vizcaya en Neguri Golf (Vizcaya)
DESCRIPTION:
URL:https://radargolf.es/event/xiv-copa-femenina-de-vizcaya-en-neguri-golf-vizcaya/
LOCATION:GOLF NEGURI
CATEGORIES:OTRAS COMUNIDADES,TORNEOS PAIS VASCO,TORNEOS VIZCAYA
END:VEVENT
BEGIN:VEVENT
DTSTART;VALUE=DATE:20261031
DTEND;VALUE=DATE:20261101
DTSTAMP:20260422T110806
CREATED:20260226T105512Z
LAST-MODIFIED:20260226T105512Z
UID:41534-1793404800-1793491199@radargolf.es
SUMMARY:Circuito Heineken en Laukariz Golf (Vizcaya)
DESCRIPTION:
URL:https://radargolf.es/event/circuito-heineken-en-laukariz-golf-vizcaya/
LOCATION:CLUB DE CAMPO LAUKARIZ
CATEGORIES:TORNEOS PAIS VASCO,TORNEOS VIZCAYA
END:VEVENT
END:VCALENDAR