BEGIN:VCALENDAR
VERSION:2.0
PRODID:-//radargolf - ECPv6.15.14//NONSGML v1.0//EN
CALSCALE:GREGORIAN
METHOD:PUBLISH
X-WR-CALNAME:radargolf
X-ORIGINAL-URL:https://radargolf.es
X-WR-CALDESC:Eventos para radargolf
REFRESH-INTERVAL;VALUE=DURATION:PT1H
X-Robots-Tag:noindex
X-PUBLISHED-TTL:PT1H
BEGIN:VTIMEZONE
TZID:Europe/Madrid
BEGIN:DAYLIGHT
TZOFFSETFROM:+0100
TZOFFSETTO:+0200
TZNAME:CEST
DTSTART:20250330T010000
END:DAYLIGHT
BEGIN:STANDARD
TZOFFSETFROM:+0200
TZOFFSETTO:+0100
TZNAME:CET
DTSTART:20251026T010000
END:STANDARD
BEGIN:DAYLIGHT
TZOFFSETFROM:+0100
TZOFFSETTO:+0200
TZNAME:CEST
DTSTART:20260329T010000
END:DAYLIGHT
BEGIN:STANDARD
TZOFFSETFROM:+0200
TZOFFSETTO:+0100
TZNAME:CET
DTSTART:20261025T010000
END:STANDARD
BEGIN:DAYLIGHT
TZOFFSETFROM:+0100
TZOFFSETTO:+0200
TZNAME:CEST
DTSTART:20270328T010000
END:DAYLIGHT
BEGIN:STANDARD
TZOFFSETFROM:+0200
TZOFFSETTO:+0100
TZNAME:CET
DTSTART:20271031T010000
END:STANDARD
END:VTIMEZONE
BEGIN:VEVENT
DTSTART;VALUE=DATE:20260619
DTEND;VALUE=DATE:20260622
DTSTAMP:20260422T110716
CREATED:20260128T000630Z
LAST-MODIFIED:20260128T000630Z
UID:40497-1781827200-1782086399@radargolf.es
SUMMARY:Liga por Equipos Galicia en Iberik Guitiriz Golf (Lugo)
DESCRIPTION:
URL:https://radargolf.es/event/liga-por-equipos-galicia-en-iberik-guitiriz-golf-lugo/
LOCATION:IBERIK GUITIRIZ GOLF
CATEGORIES:OTRAS COMUNIDADES,TORNEOS GALICIA,TORNEOS LUGO
END:VEVENT
BEGIN:VEVENT
DTSTART;VALUE=DATE:20260619
DTEND;VALUE=DATE:20260622
DTSTAMP:20260422T110716
CREATED:20260128T001222Z
LAST-MODIFIED:20260128T001222Z
UID:40505-1781827200-1782086399@radargolf.es
SUMMARY:Liga por Equipos Galicia en Iberik Augas Santas Golf (Lugo)
DESCRIPTION:
URL:https://radargolf.es/event/liga-por-equipos-galicia-en-iberik-augas-santas-golf-lugo/
CATEGORIES:OTRAS COMUNIDADES,TORNEOS GALICIA,TORNEOS LUGO
END:VEVENT
BEGIN:VEVENT
DTSTART;VALUE=DATE:20260620
DTEND;VALUE=DATE:20260621
DTSTAMP:20260422T110716
CREATED:20230209T230900Z
LAST-MODIFIED:20260321T015056Z
UID:11989-1781913600-1781999999@radargolf.es
SUMMARY:Final Circuito Torre de Núñez en Lugo Golf (Lugo)
DESCRIPTION:
URL:https://radargolf.es/event/final-circuito-torre-de-nunez-en-lugo-golf-lugo/
LOCATION:LUGO GOLF
CATEGORIES:OTRAS COMUNIDADES,TORNEOS GALICIA,TORNEOS LUGO
END:VEVENT
BEGIN:VEVENT
DTSTART;VALUE=DATE:20260703
DTEND;VALUE=DATE:20260706
DTSTAMP:20260422T110716
CREATED:20240314T223053Z
LAST-MODIFIED:20260221T094106Z
UID:24358-1783036800-1783295999@radargolf.es
SUMMARY:I Campeonato de Europa IPPA en Rio Cabe Golf (Lugo)
DESCRIPTION:
URL:https://radargolf.es/event/i-campeonato-de-europa-ippa-en-rio-cabe-golf-lugo/
LOCATION:GOLF RIO CABE
CATEGORIES:OTRAS COMUNIDADES,TORNEOS GALICIA,TORNEOS LUGO
END:VEVENT
BEGIN:VEVENT
DTSTART;VALUE=DATE:20260704
DTEND;VALUE=DATE:20260705
DTSTAMP:20260422T110716
CREATED:20230209T230938Z
LAST-MODIFIED:20260415T222031Z
UID:11991-1783123200-1783209599@radargolf.es
SUMMARY:12º Open Muralla de Lugo en Lugo Golf (Lugo)
DESCRIPTION:
URL:https://radargolf.es/event/12o-open-muralla-de-lugo-en-lugo-golf-lugo-4/
LOCATION:LUGO GOLF
CATEGORIES:OTRAS COMUNIDADES,TORNEOS GALICIA,TORNEOS LUGO
END:VEVENT
BEGIN:VEVENT
DTSTART;VALUE=DATE:20260919
DTEND;VALUE=DATE:20260920
DTSTAMP:20260422T110716
CREATED:20250424T233917Z
LAST-MODIFIED:20260415T222105Z
UID:34016-1789776000-1789862399@radargolf.es
SUMMARY:12º Open Muralla de Lugo en Lugo Golf (Lugo)
DESCRIPTION:
URL:https://radargolf.es/event/12o-open-muralla-de-lugo-en-lugo-golf-lugo-5/
LOCATION:LUGO GOLF
CATEGORIES:OTRAS COMUNIDADES,TORNEOS GALICIA,TORNEOS LUGO
END:VEVENT
END:VCALENDAR