BEGIN:VCALENDAR
VERSION:2.0
PRODID:-//radargolf - ECPv6.15.14//NONSGML v1.0//EN
CALSCALE:GREGORIAN
METHOD:PUBLISH
X-ORIGINAL-URL:https://radargolf.es
X-WR-CALDESC:Eventos para radargolf
REFRESH-INTERVAL;VALUE=DURATION:PT1H
X-Robots-Tag:noindex
X-PUBLISHED-TTL:PT1H
BEGIN:VTIMEZONE
TZID:Europe/Madrid
BEGIN:DAYLIGHT
TZOFFSETFROM:+0100
TZOFFSETTO:+0200
TZNAME:CEST
DTSTART:20250330T010000
END:DAYLIGHT
BEGIN:STANDARD
TZOFFSETFROM:+0200
TZOFFSETTO:+0100
TZNAME:CET
DTSTART:20251026T010000
END:STANDARD
BEGIN:DAYLIGHT
TZOFFSETFROM:+0100
TZOFFSETTO:+0200
TZNAME:CEST
DTSTART:20260329T010000
END:DAYLIGHT
BEGIN:STANDARD
TZOFFSETFROM:+0200
TZOFFSETTO:+0100
TZNAME:CET
DTSTART:20261025T010000
END:STANDARD
BEGIN:DAYLIGHT
TZOFFSETFROM:+0100
TZOFFSETTO:+0200
TZNAME:CEST
DTSTART:20270328T010000
END:DAYLIGHT
BEGIN:STANDARD
TZOFFSETFROM:+0200
TZOFFSETTO:+0100
TZNAME:CET
DTSTART:20271031T010000
END:STANDARD
END:VTIMEZONE
BEGIN:VEVENT
DTSTART;VALUE=DATE:20260417
DTEND;VALUE=DATE:20260419
DTSTAMP:20260422T110914
CREATED:20240718T223134Z
LAST-MODIFIED:20260308T190644Z
UID:28261-1776384000-1776556799@radargolf.es
SUMMARY:Torneo Solidario Una Cura Para Mauri en Meis Golf (Pontevedra)
DESCRIPTION:
URL:https://radargolf.es/event/torneo-solidario-una-cura-para-mauri-en-meis-golf-pontevedra/
LOCATION:MEIS GOLF
CATEGORIES:OTRAS COMUNIDADES,TORNEOS GALICIA,TORNEOS PONTEVEDRA
END:VEVENT
BEGIN:VEVENT
DTSTART;VALUE=DATE:20260417
DTEND;VALUE=DATE:20260420
DTSTAMP:20260422T110914
CREATED:20230727T175439Z
LAST-MODIFIED:20260120T235242Z
UID:17662-1776384000-1776643199@radargolf.es
SUMMARY:Ranking P&P Galicia 2026 en Pozo do Lago Golf (Orense)
DESCRIPTION:
URL:https://radargolf.es/event/ranking-pp-galicia-2026-en-pozo-do-lago-golf-orense/
LOCATION:POZO DO LAGO GOLF
CATEGORIES:OTRAS COMUNIDADES,TORNEOS GALICIA,TORNEOS OURENSE
END:VEVENT
END:VCALENDAR