BEGIN:VCALENDAR
VERSION:2.0
PRODID:-//radargolf - ECPv6.15.14//NONSGML v1.0//EN
CALSCALE:GREGORIAN
METHOD:PUBLISH
X-WR-CALNAME:radargolf
X-ORIGINAL-URL:https://radargolf.es
X-WR-CALDESC:Eventos para radargolf
REFRESH-INTERVAL;VALUE=DURATION:PT1H
X-Robots-Tag:noindex
X-PUBLISHED-TTL:PT1H
BEGIN:VTIMEZONE
TZID:Europe/Madrid
BEGIN:DAYLIGHT
TZOFFSETFROM:+0100
TZOFFSETTO:+0200
TZNAME:CEST
DTSTART:20250330T010000
END:DAYLIGHT
BEGIN:STANDARD
TZOFFSETFROM:+0200
TZOFFSETTO:+0100
TZNAME:CET
DTSTART:20251026T010000
END:STANDARD
BEGIN:DAYLIGHT
TZOFFSETFROM:+0100
TZOFFSETTO:+0200
TZNAME:CEST
DTSTART:20260329T010000
END:DAYLIGHT
BEGIN:STANDARD
TZOFFSETFROM:+0200
TZOFFSETTO:+0100
TZNAME:CET
DTSTART:20261025T010000
END:STANDARD
BEGIN:DAYLIGHT
TZOFFSETFROM:+0100
TZOFFSETTO:+0200
TZNAME:CEST
DTSTART:20270328T010000
END:DAYLIGHT
BEGIN:STANDARD
TZOFFSETFROM:+0200
TZOFFSETTO:+0100
TZNAME:CET
DTSTART:20271031T010000
END:STANDARD
END:VTIMEZONE
BEGIN:VEVENT
DTSTART;VALUE=DATE:20260424
DTEND;VALUE=DATE:20260427
DTSTAMP:20260426T023734
CREATED:20230104T231010Z
LAST-MODIFIED:20260407T221114Z
UID:10668-1776988800-1777247999@radargolf.es
SUMMARY:Circuito Gastronomic Golf Bohigas en Golf La Roca (Barcelona)
DESCRIPTION:
URL:https://radargolf.es/event/circuito-gastronomic-golf-bohigas-en-golf-la-roca-barcelona/
LOCATION:GOLF LA ROCA
CATEGORIES:OTRAS COMUNIDADES,TORNEOS BARCELONA,TORNEOS CATALUÑA
END:VEVENT
BEGIN:VEVENT
DTSTART;VALUE=DATE:20260424
DTEND;VALUE=DATE:20260427
DTSTAMP:20260426T023734
CREATED:20240308T221922Z
LAST-MODIFIED:20260205T231343Z
UID:24212-1776988800-1777247999@radargolf.es
SUMMARY:Open Amateur Entemanser en Golf del Sur (Tenerife)
DESCRIPTION:
URL:https://radargolf.es/event/open-amateur-entemanser-en-golf-del-sur-tenerife/
LOCATION:GOLF DEL SUR
CATEGORIES:OTRAS COMUNIDADES,TORNEOS CANARIAS
END:VEVENT
BEGIN:VEVENT
DTSTART;VALUE=DATE:20260424
DTEND;VALUE=DATE:20260428
DTSTAMP:20260426T023734
CREATED:20230228T205618Z
LAST-MODIFIED:20260420T213317Z
UID:12640-1776988800-1777334399@radargolf.es
SUMMARY:I Torneo Parejas Greensome Chapman en Villaviciosa Golf (Asturias)
DESCRIPTION:
URL:https://radargolf.es/event/i-torneo-paejas-greensome-chapman-en-villaviciosa-golf-asturias/
LOCATION:VILLAVICIOSA GOLF
CATEGORIES:OTRAS COMUNIDADES,TORNEOS ASTURIAS
END:VEVENT
BEGIN:VEVENT
DTSTART;VALUE=DATE:20260425
DTEND;VALUE=DATE:20260427
DTSTAMP:20260426T023734
CREATED:20240414T193804Z
LAST-MODIFIED:20260114T001638Z
UID:25358-1777075200-1777247999@radargolf.es
SUMMARY:Circuito 5ª Categoría Federación Catalana de Golf en Lleida Golf (LLeida)
DESCRIPTION:
URL:https://radargolf.es/event/circuito-5a-categoria-federacion-catalana-de-golf-en-lleida-golf-lleida/
LOCATION:LLEIDA GOLF
CATEGORIES:OTRAS COMUNIDADES,TORNEOS CATALUÑA,TORNEOS LLEIDA
END:VEVENT
BEGIN:VEVENT
DTSTART;VALUE=DATE:20260425
DTEND;VALUE=DATE:20260427
DTSTAMP:20260426T023734
CREATED:20240502T113756Z
LAST-MODIFIED:20260117T002434Z
UID:25975-1777075200-1777247999@radargolf.es
SUMMARY:Circuito Corporate Golf en RACE Golf (Madrid)
DESCRIPTION:
URL:https://radargolf.es/event/circuito-corporate-golf-en-race-golf-madrid/
LOCATION:RACE GOLF
CATEGORIES:OTRAS COMUNIDADES,TORNEOS MADRID
END:VEVENT
BEGIN:VEVENT
DTSTART;VALUE=DATE:20260425
DTEND;VALUE=DATE:20260427
DTSTAMP:20260426T023734
CREATED:20250228T094145Z
LAST-MODIFIED:20260420T220815Z
UID:32654-1777075200-1777247999@radargolf.es
SUMMARY:Torneo Canya i Braves en Vallromanes Golf (Barcelona)
DESCRIPTION:Screenshot
URL:https://radargolf.es/event/torneo-canya-i-braves-en-vallromanes-golf-barcelona/
LOCATION:VALLROMANES GOLF
CATEGORIES:OTRAS COMUNIDADES,TORNEOS BARCELONA,TORNEOS CATALUÑA
END:VEVENT
BEGIN:VEVENT
DTSTART;VALUE=DATE:20260425
DTEND;VALUE=DATE:20260427
DTSTAMP:20260426T023734
CREATED:20260322T225003Z
LAST-MODIFIED:20260415T224603Z
UID:42356-1777075200-1777247999@radargolf.es
SUMMARY:Torneo Benéfico Cáritas Diocesana Segorbe-Castellón en Costa de Azahar Golf (Castellón)
DESCRIPTION:
URL:https://radargolf.es/event/torneo-benefico-caritas-diocesana-segorbe-castellon-en-costa-de-azahar-golf-castellon/
LOCATION:COSTA AZAHAR GOLF
CATEGORIES:TORNEOS C. VALENCIANA,TORNEOS CASTELLÓN
END:VEVENT
BEGIN:VEVENT
DTSTART;VALUE=DATE:20260425
DTEND;VALUE=DATE:20260427
DTSTAMP:20260426T023734
CREATED:20250402T222816Z
LAST-MODIFIED:20260303T232923Z
UID:33519-1777075200-1777247999@radargolf.es
SUMMARY:Campeonato de Madrid Senior Masculino Federación Madrileña en La Moraleja Golf (Madrid)
DESCRIPTION:
URL:https://radargolf.es/event/campeonato-de-madrid-senior-masculino-federacion-madrilena-en-la-moraleja-golf-madrid/
LOCATION:LA MORALEJA GOLF
CATEGORIES:OTRAS COMUNIDADES,TORNEOS MADRID
END:VEVENT
BEGIN:VEVENT
DTSTART;VALUE=DATE:20260426
DTEND;VALUE=DATE:20260427
DTSTAMP:20260426T023734
CREATED:20220908T192227Z
LAST-MODIFIED:20260329T092846Z
UID:8687-1777161600-1777247999@radargolf.es
SUMMARY:XVI Circuito San Miguel Andalucía Golf Challenge by Globalia en La Cañada Golf (Cádiz)
DESCRIPTION:  \n  \n  \n  \n 
URL:https://radargolf.es/event/xvi-circuito-san-miguel-andalucia-golf-challenge-by-globalia-en-la-canada-golf-cadiz/
LOCATION:LA CAÑADA GOLF
CATEGORIES:ANDALUCÍA,TORNEOS CÁDIZ
END:VEVENT
BEGIN:VEVENT
DTSTART;VALUE=DATE:20260426
DTEND;VALUE=DATE:20260427
DTSTAMP:20260426T023734
CREATED:20230611T201351Z
LAST-MODIFIED:20260420T215630Z
UID:16314-1777161600-1777247999@radargolf.es
SUMMARY:Torneo Stableford en Desert Springs Golf (Almería)
DESCRIPTION:
URL:https://radargolf.es/event/torneo-stableford-en-desert-springs-golf-almeria/
LOCATION:DESERT SPRINGS GOLF
CATEGORIES:ANDALUCÍA,TORNEOS ALMERÍA
END:VEVENT
BEGIN:VEVENT
DTSTART;VALUE=DATE:20260426
DTEND;VALUE=DATE:20260427
DTSTAMP:20260426T023734
CREATED:20230716T093110Z
LAST-MODIFIED:20260322T224112Z
UID:17330-1777161600-1777247999@radargolf.es
SUMMARY:Circuito Nacional 5ª Categoría en Miño Golf (A Coruña)
DESCRIPTION:
URL:https://radargolf.es/event/circuito-nacional-5a-categoria-en-mino-golf-a-coruna-2/
LOCATION:MIÑO GOLF
CATEGORIES:OTRAS COMUNIDADES,TORNEOS CORUÑA,TORNEOS GALICIA
END:VEVENT
BEGIN:VEVENT
DTSTART;VALUE=DATE:20260426
DTEND;VALUE=DATE:20260427
DTSTAMP:20260426T023734
CREATED:20231002T225022Z
LAST-MODIFIED:20260422T221418Z
UID:19551-1777161600-1777247999@radargolf.es
SUMMARY:Torneo Aceites Abril en Montealegre Golf (Orense)
DESCRIPTION:
URL:https://radargolf.es/event/torneo-aceites-abril-en-montealegre-golf-orense/
LOCATION:MONTEALEGRE GOLF
CATEGORIES:OTRAS COMUNIDADES,TORNEOS GALICIA,TORNEOS OURENSE
END:VEVENT
BEGIN:VEVENT
DTSTART;VALUE=DATE:20260426
DTEND;VALUE=DATE:20260427
DTSTAMP:20260426T023734
CREATED:20240202T225013Z
LAST-MODIFIED:20260103T234432Z
UID:22992-1777161600-1777247999@radargolf.es
SUMMARY:XXV Junior & Baby Cup en Costa Daurada Golf (Tarragona)
DESCRIPTION:
URL:https://radargolf.es/event/xxv-junior-baby-cup-en-costa-daurada-golf-tarragona/
LOCATION:GOLF COSTA DAURADA
CATEGORIES:OTRAS COMUNIDADES,TORNEOS CATALUÑA,TORNEOS TARRAGONA
END:VEVENT
BEGIN:VEVENT
DTSTART;VALUE=DATE:20260426
DTEND;VALUE=DATE:20260427
DTSTAMP:20260426T023734
CREATED:20250805T223636Z
LAST-MODIFIED:20260420T213831Z
UID:36136-1777161600-1777247999@radargolf.es
SUMMARY:Torneo Parents & Kids O Castro British International School en Aeroclub Vigo Golf (Pontevedra)
DESCRIPTION:
URL:https://radargolf.es/event/torneo-parents-kids-o-castro-british-international-school-en-aeroclub-vigo-golf-pontevedra/
LOCATION:AEROCLUB VIGO GOLF
CATEGORIES:OTRAS COMUNIDADES,TORNEOS GALICIA,TORNEOS PONTEVEDRA
END:VEVENT
BEGIN:VEVENT
DTSTART;VALUE=DATE:20260426
DTEND;VALUE=DATE:20260427
DTSTAMP:20260426T023734
CREATED:20221129T214126Z
LAST-MODIFIED:20260420T215234Z
UID:9965-1777161600-1777247999@radargolf.es
SUMMARY:Torneo San Prudencio en Izki Golf (Álava)
DESCRIPTION:
URL:https://radargolf.es/event/torneo-san-prudencio-en-izki-golf-alava/
LOCATION:IZKI GOLF
CATEGORIES:OTRAS COMUNIDADES,TORNEOS ÁLAVA,TORNEOS PAIS VASCO
END:VEVENT
BEGIN:VEVENT
DTSTART;VALUE=DATE:20260426
DTEND;VALUE=DATE:20260427
DTSTAMP:20260426T023734
CREATED:20221213T214842Z
LAST-MODIFIED:20260415T230435Z
UID:10338-1777161600-1777247999@radargolf.es
SUMMARY:Torneo Roll&Golf Experience en La Dehesa Golf (Madrid)
DESCRIPTION:Screenshot\n  \n 
URL:https://radargolf.es/event/torneo-rollgolf-experience-en-la-dehesa-golf-madrid-2/
LOCATION:GOLF LA DEHESA
CATEGORIES:OTRAS COMUNIDADES,TORNEOS MADRID
END:VEVENT
BEGIN:VEVENT
DTSTART;VALUE=DATE:20260426
DTEND;VALUE=DATE:20260427
DTSTAMP:20260426T023734
CREATED:20230228T203356Z
LAST-MODIFIED:20260422T222220Z
UID:12624-1777161600-1777247999@radargolf.es
SUMMARY:II Puntuable Fase Local Circuito Nacional de 5ª Categoría en Torrijos Golf (Toledo)
DESCRIPTION:
URL:https://radargolf.es/event/i-puntuable-fase-local-circuito-nacional-de-5a-categoria-en-torrijos-golf-toledo/
LOCATION:TORRIJOS GOLF
CATEGORIES:OTRAS COMUNIDADES,TORNEOS CASTILLA LA MANCHA,TORNEOS TOLEDO
END:VEVENT
BEGIN:VEVENT
DTSTART;VALUE=DATE:20260426
DTEND;VALUE=DATE:20260427
DTSTAMP:20260426T023734
CREATED:20230326T182642Z
LAST-MODIFIED:20260415T225349Z
UID:13699-1777161600-1777247999@radargolf.es
SUMMARY:V Torneo Benéfico Fundación Arruzafa en Real Club de Campo Golf (Córdoba)
DESCRIPTION:
URL:https://radargolf.es/event/v-torneo-benefico-fundacion-arruzafa-en-real-club-de-campo-golf-cordoba/
LOCATION:REAL CLUB DE CAMPO CÓRDOBA
CATEGORIES:ANDALUCÍA,TORNEOS CÓRDOBA
END:VEVENT
BEGIN:VEVENT
DTSTART;VALUE=DATE:20260426
DTEND;VALUE=DATE:20260427
DTSTAMP:20260426T023734
CREATED:20230403T230229Z
LAST-MODIFIED:20260415T230047Z
UID:13924-1777161600-1777247999@radargolf.es
SUMMARY:Ranking Social Amigos en Sancti Petri Hills (Cádiz)
DESCRIPTION:
URL:https://radargolf.es/event/ranking-social-amigos-en-sancti-petri-hills-cadiz/
LOCATION:SANCTI PETRI HILLS
CATEGORIES:ANDALUCÍA,TORNEOS CÁDIZ
END:VEVENT
BEGIN:VEVENT
DTSTART;VALUE=DATE:20260426
DTEND;VALUE=DATE:20260427
DTSTAMP:20260426T023734
CREATED:20230618T212545Z
LAST-MODIFIED:20260404T181246Z
UID:16523-1777161600-1777247999@radargolf.es
SUMMARY:Torneo EspritGolf en Azata Golf (Málaga)
DESCRIPTION:
URL:https://radargolf.es/event/torneo-espritgolf-en-azata-golf-malaga/
LOCATION:AZATA GOLF
CATEGORIES:ANDALUCÍA,TORNEOS MÁLAGA
END:VEVENT
BEGIN:VEVENT
DTSTART;VALUE=DATE:20260426
DTEND;VALUE=DATE:20260427
DTSTAMP:20260426T023734
CREATED:20240604T231555Z
LAST-MODIFIED:20260322T225902Z
UID:27090-1777161600-1777247999@radargolf.es
SUMMARY:Torneo Codex Golf en Lerma Golf (Burgos)
DESCRIPTION: 
URL:https://radargolf.es/event/torneo-codex-golf-en-lerma-golf-burgos/
LOCATION:LERMA GOLF
CATEGORIES:OTRAS COMUNIDADES,TORNEOS BURGOS,TORNEOS CASTILLA Y LEÓN
END:VEVENT
BEGIN:VEVENT
DTSTART;VALUE=DATE:20260426
DTEND;VALUE=DATE:20260427
DTSTAMP:20260426T023734
CREATED:20250715T224905Z
LAST-MODIFIED:20260415T224225Z
UID:35796-1777161600-1777247999@radargolf.es
SUMMARY:Circuito Nacional Summum Golf en La Herrería Golf (Madrid)
DESCRIPTION:
URL:https://radargolf.es/event/circuito-nacional-summum-golf-en-la-herreria-golf-madrid/
LOCATION:LA HERRERÍA GOLF
CATEGORIES:OTRAS COMUNIDADES,TORNEOS MADRID
END:VEVENT
BEGIN:VEVENT
DTSTART;VALUE=DATE:20260426
DTEND;VALUE=DATE:20260427
DTSTAMP:20260426T023734
CREATED:20251026T225827Z
LAST-MODIFIED:20260422T222118Z
UID:37334-1777161600-1777247999@radargolf.es
SUMMARY:Torneo Solheim Cup en Golf Xaz (A Coruña)
DESCRIPTION:
URL:https://radargolf.es/event/torneo-solheim-cup-en-golf-xaz-a-coruna/
LOCATION:GOLF XAZ
CATEGORIES:OTRAS COMUNIDADES,TORNEOS CORUÑA,TORNEOS GALICIA
END:VEVENT
BEGIN:VEVENT
DTSTART;VALUE=DATE:20260426
DTEND;VALUE=DATE:20260427
DTSTAMP:20260426T023734
CREATED:20260201T202601Z
LAST-MODIFIED:20260201T202632Z
UID:40602-1777161600-1777247999@radargolf.es
SUMMARY:Prueba Ranking en Sherry Golf (Cádiz)
DESCRIPTION:
URL:https://radargolf.es/event/prueba-ranking-en-sherry-golf-cadiz/
LOCATION:SHERRY GOLF
CATEGORIES:ANDALUCÍA,TORNEOS CÁDIZ
END:VEVENT
BEGIN:VEVENT
DTSTART;VALUE=DATE:20260426
DTEND;VALUE=DATE:20260427
DTSTAMP:20260426T023734
CREATED:20260204T233446Z
LAST-MODIFIED:20260204T233446Z
UID:40835-1777161600-1777247999@radargolf.es
SUMMARY:Circuito PG Junior en Magna Marbella Golf (Málaga)
DESCRIPTION:
URL:https://radargolf.es/event/circuito-pg-junior-en-magna-marbella-golf-malaga-4/
LOCATION:MAGNA MARBELLA GOLF
CATEGORIES:ANDALUCÍA,TORNEOS MÁLAGA
END:VEVENT
BEGIN:VEVENT
DTSTART;VALUE=DATE:20260426
DTEND;VALUE=DATE:20260427
DTSTAMP:20260426T023734
CREATED:20260219T225953Z
LAST-MODIFIED:20260420T213414Z
UID:41258-1777161600-1777247999@radargolf.es
SUMMARY:Circuito Texas Scramble Campbell Lamont Golf en Puig Campana Golf (Alicante)
DESCRIPTION:
URL:https://radargolf.es/event/circuito-texas-scramble-campbell-lamont-golf-en-puig-campana-golf-alicante/
LOCATION:PUIG CAMPANA GOLF
CATEGORIES:TORNEOS ALICANTE,TORNEOS C. VALENCIANA
END:VEVENT
BEGIN:VEVENT
DTSTART;VALUE=DATE:20260426
DTEND;VALUE=DATE:20260427
DTSTAMP:20260426T023734
CREATED:20260303T224344Z
LAST-MODIFIED:20260404T220921Z
UID:41763-1777161600-1777247999@radargolf.es
SUMMARY:Torneo Infantil CC en Golf Costa Brava (Girona)
DESCRIPTION:
URL:https://radargolf.es/event/torneo-infantil-cc-en-golf-costa-brava-girona/
LOCATION:GOLF COSTA BRAVA
CATEGORIES:TORNEOS CATALUÑA,TORNEOS GIRONA
END:VEVENT
BEGIN:VEVENT
DTSTART;VALUE=DATE:20260426
DTEND;VALUE=DATE:20260427
DTSTAMP:20260426T023734
CREATED:20260329T094353Z
LAST-MODIFIED:20260329T094353Z
UID:42453-1777161600-1777247999@radargolf.es
SUMMARY:Liga Individual en Chan do Fento Golf (Pontevedra)
DESCRIPTION:
URL:https://radargolf.es/event/liga-individual-en-chan-do-fento-golf-pontevedra-2/
LOCATION:CHAN DO FENTO
CATEGORIES:TORNEOS GALICIA,TORNEOS PONTEVEDRA
END:VEVENT
BEGIN:VEVENT
DTSTART;VALUE=DATE:20260426
DTEND;VALUE=DATE:20260427
DTSTAMP:20260426T023734
CREATED:20260329T101023Z
LAST-MODIFIED:20260329T101023Z
UID:42493-1777161600-1777247999@radargolf.es
SUMMARY:Liga Femenina en Miño Golf (A Coruña)
DESCRIPTION:Screenshot
URL:https://radargolf.es/event/liga-femenina-en-mino-golf-a-coruna-3/
LOCATION:MIÑO GOLF
CATEGORIES:TORNEOS CORUÑA,TORNEOS GALICIA
END:VEVENT
BEGIN:VEVENT
DTSTART;VALUE=DATE:20260426
DTEND;VALUE=DATE:20260427
DTSTAMP:20260426T023734
CREATED:20260415T231419Z
LAST-MODIFIED:20260415T231419Z
UID:42875-1777161600-1777247999@radargolf.es
SUMMARY:Campeonato de Aragón P&P en Las Margas Golf (Huesca)
DESCRIPTION:Screenshot
URL:https://radargolf.es/event/campeonato-de-aragon-pp-en-las-margas-golf-huesca/
LOCATION:LAS MARGAS GOLF
CATEGORIES:TORNEOS ARAGÓN,TORNEOS HUESCA
END:VEVENT
END:VCALENDAR