BEGIN:VCALENDAR
VERSION:2.0
PRODID:-//radargolf - ECPv6.15.14//NONSGML v1.0//EN
CALSCALE:GREGORIAN
METHOD:PUBLISH
X-ORIGINAL-URL:https://radargolf.es
X-WR-CALDESC:Eventos para radargolf
REFRESH-INTERVAL;VALUE=DURATION:PT1H
X-Robots-Tag:noindex
X-PUBLISHED-TTL:PT1H
BEGIN:VTIMEZONE
TZID:Europe/Madrid
BEGIN:DAYLIGHT
TZOFFSETFROM:+0100
TZOFFSETTO:+0200
TZNAME:CEST
DTSTART:20240331T010000
END:DAYLIGHT
BEGIN:STANDARD
TZOFFSETFROM:+0200
TZOFFSETTO:+0100
TZNAME:CET
DTSTART:20241027T010000
END:STANDARD
BEGIN:DAYLIGHT
TZOFFSETFROM:+0100
TZOFFSETTO:+0200
TZNAME:CEST
DTSTART:20250330T010000
END:DAYLIGHT
BEGIN:STANDARD
TZOFFSETFROM:+0200
TZOFFSETTO:+0100
TZNAME:CET
DTSTART:20251026T010000
END:STANDARD
BEGIN:DAYLIGHT
TZOFFSETFROM:+0100
TZOFFSETTO:+0200
TZNAME:CEST
DTSTART:20260329T010000
END:DAYLIGHT
BEGIN:STANDARD
TZOFFSETFROM:+0200
TZOFFSETTO:+0100
TZNAME:CET
DTSTART:20261025T010000
END:STANDARD
BEGIN:DAYLIGHT
TZOFFSETFROM:+0100
TZOFFSETTO:+0200
TZNAME:CEST
DTSTART:20270328T010000
END:DAYLIGHT
BEGIN:STANDARD
TZOFFSETFROM:+0200
TZOFFSETTO:+0100
TZNAME:CET
DTSTART:20271031T010000
END:STANDARD
END:VTIMEZONE
BEGIN:VEVENT
DTSTART;VALUE=DATE:20250719
DTEND;VALUE=DATE:20250721
DTSTAMP:20260421T191326
CREATED:20230129T231537Z
LAST-MODIFIED:20250715T223104Z
UID:11485-1752883200-1753055999@radargolf.es
SUMMARY:III Torneo Ayuntamiento de La Roda en Golf Amado Quintanilla (Albacete)
DESCRIPTION:  \n 
URL:https://radargolf.es/event/iii-torneo-ayuntamiento-de-la-roda-en-golf-amado-quintanilla-albacete/
LOCATION:GOLF AMADO QUINTANILLA
CATEGORIES:OTRAS COMUNIDADES,TORNEOS ALBACETE,TORNEOS CASTILLA LA MANCHA
END:VEVENT
BEGIN:VEVENT
DTSTART;VALUE=DATE:20250719
DTEND;VALUE=DATE:20250721
DTSTAMP:20260421T191326
CREATED:20230216T233228Z
LAST-MODIFIED:20250508T165609Z
UID:12247-1752883200-1753055999@radargolf.es
SUMMARY:Campeonato Andalucía 2ª\, 3ª y 4ª Categoría RFAG en La Monacilla Golf (Huelva)
DESCRIPTION:Más información e inscripción en el siguiente ENLACE
URL:https://radargolf.es/event/campeonato-andalucia-2a-3a-y-4a-categoria-rfag-en-la-monacilla-golf-huelva/
LOCATION:LA MONACILLA GOLF
CATEGORIES:ANDALUCÍA,TORNEOS HUELVA
END:VEVENT
BEGIN:VEVENT
DTSTART;VALUE=DATE:20250719
DTEND;VALUE=DATE:20250721
DTSTAMP:20260421T191326
CREATED:20250413T191103Z
LAST-MODIFIED:20250413T191103Z
UID:33691-1752883200-1753055999@radargolf.es
SUMMARY:Circuito Hexagonal Qromia en Son Quint Golf (Mallorca)
DESCRIPTION:
URL:https://radargolf.es/event/circuito-hexagonal-qromia-en-son-quint-golf-mallorca/
LOCATION:SON QUINT GOLF
CATEGORIES:OTRAS COMUNIDADES,TORNEOS BALEARES
END:VEVENT
BEGIN:VEVENT
DTSTART;VALUE=DATE:20260329
DTEND;VALUE=DATE:20260330
DTSTAMP:20260421T191326
CREATED:20230112T070932Z
LAST-MODIFIED:20260219T225759Z
UID:10835-1774742400-1774828799@radargolf.es
SUMMARY:Circuito Texas Scramble Campbell Lamont Golf en Altea Golf (Alicante)
DESCRIPTION:
URL:https://radargolf.es/event/circuito-texas-scramble-campbell-lamont-golf-en-altea-golf-alicante/
LOCATION:ALTEA GOLF
CATEGORIES:OTRAS COMUNIDADES,TORNEOS ALICANTE,TORNEOS C. VALENCIANA
END:VEVENT
END:VCALENDAR