BEGIN:VCALENDAR
VERSION:2.0
PRODID:-//radargolf - ECPv6.15.14//NONSGML v1.0//EN
CALSCALE:GREGORIAN
METHOD:PUBLISH
X-ORIGINAL-URL:https://radargolf.es
X-WR-CALDESC:Eventos para radargolf
REFRESH-INTERVAL;VALUE=DURATION:PT1H
X-Robots-Tag:noindex
X-PUBLISHED-TTL:PT1H
BEGIN:VTIMEZONE
TZID:Europe/Madrid
BEGIN:DAYLIGHT
TZOFFSETFROM:+0100
TZOFFSETTO:+0200
TZNAME:CEST
DTSTART:20240331T010000
END:DAYLIGHT
BEGIN:STANDARD
TZOFFSETFROM:+0200
TZOFFSETTO:+0100
TZNAME:CET
DTSTART:20241027T010000
END:STANDARD
BEGIN:DAYLIGHT
TZOFFSETFROM:+0100
TZOFFSETTO:+0200
TZNAME:CEST
DTSTART:20250330T010000
END:DAYLIGHT
BEGIN:STANDARD
TZOFFSETFROM:+0200
TZOFFSETTO:+0100
TZNAME:CET
DTSTART:20251026T010000
END:STANDARD
BEGIN:DAYLIGHT
TZOFFSETFROM:+0100
TZOFFSETTO:+0200
TZNAME:CEST
DTSTART:20260329T010000
END:DAYLIGHT
BEGIN:STANDARD
TZOFFSETFROM:+0200
TZOFFSETTO:+0100
TZNAME:CET
DTSTART:20261025T010000
END:STANDARD
END:VTIMEZONE
BEGIN:VEVENT
DTSTART;VALUE=DATE:20250710
DTEND;VALUE=DATE:20250713
DTSTAMP:20260421T191333
CREATED:20250518T211723Z
LAST-MODIFIED:20251124T224338Z
UID:34496-1752105600-1752364799@radargolf.es
SUMMARY:Campeonato Absoluto de Vizcaya en Meaztegui Golf (Vizcaya)
DESCRIPTION:
URL:https://radargolf.es/event/campeonato-absoluto-de-vizcaya-en-meaztegui-golf-vizcaya/
LOCATION:MEAZTEGI GOLF
CATEGORIES:OTRAS COMUNIDADES,TORNEOS PAIS VASCO,TORNEOS VIZCAYA
END:VEVENT
BEGIN:VEVENT
DTSTART;VALUE=DATE:20250711
DTEND;VALUE=DATE:20250713
DTSTAMP:20260421T191333
CREATED:20230208T102309Z
LAST-MODIFIED:20250706T225634Z
UID:11884-1752192000-1752364799@radargolf.es
SUMMARY:Torneo Seoane Asesores en Hércules Golf (A Coruña)
DESCRIPTION:
URL:https://radargolf.es/event/torneo-seoane-asesores-en-hercules-golf-a-coruna/
LOCATION:HÉRCULES GOLF
CATEGORIES:OTRAS COMUNIDADES,TORNEOS CORUÑA,TORNEOS GALICIA
END:VEVENT
BEGIN:VEVENT
DTSTART;VALUE=DATE:20250711
DTEND;VALUE=DATE:20250713
DTSTAMP:20260421T191333
CREATED:20250209T111645Z
LAST-MODIFIED:20250708T232904Z
UID:32156-1752192000-1752364799@radargolf.es
SUMMARY:Torneo Big Outlet en Val de Rois Golf (A Coruña)
DESCRIPTION:
URL:https://radargolf.es/event/torneo-big-outlet-en-val-de-rois-golf-a-coruna/
LOCATION:VAL DE ROIS GOLF
CATEGORIES:OTRAS COMUNIDADES,TORNEOS CORUÑA,TORNEOS GALICIA
END:VEVENT
BEGIN:VEVENT
DTSTART;VALUE=DATE:20250711
DTEND;VALUE=DATE:20250714
DTSTAMP:20260421T191333
CREATED:20250508T165017Z
LAST-MODIFIED:20250508T165017Z
UID:34341-1752192000-1752451199@radargolf.es
SUMMARY:Campeonato Andalucía Individual RFAG en Isla Canela Links (Huelva)
DESCRIPTION:Más información e inscripción en el siguiente ENLACE
URL:https://radargolf.es/event/campeonato-andalucia-individual-rfag-en-isla-canela-links-huelva/
LOCATION:ISLA CANELA LINKS
CATEGORIES:ANDALUCÍA,TORNEOS HUELVA
END:VEVENT
BEGIN:VEVENT
DTSTART;VALUE=DATE:20250712
DTEND;VALUE=DATE:20250713
DTSTAMP:20260421T191333
CREATED:20240406T222140Z
LAST-MODIFIED:20250625T002848Z
UID:25060-1752278400-1752364799@radargolf.es
SUMMARY:Circuito Grow Sports en Sojuela Golf (La Rioja)
DESCRIPTION:
URL:https://radargolf.es/event/circuito-grow-sports-en-sojuela-golf-la-rioja/
LOCATION:SOJUELA GOLF
CATEGORIES:OTRAS COMUNIDADES,TORNEOS LA RIOJA
END:VEVENT
BEGIN:VEVENT
DTSTART;VALUE=DATE:20250712
DTEND;VALUE=DATE:20250713
DTSTAMP:20260421T191333
CREATED:20240306T000929Z
LAST-MODIFIED:20250306T070653Z
UID:24125-1752278400-1752364799@radargolf.es
SUMMARY:XXII Torneo Europe Villa Cortés en Las Américas Golf (Tenerife)
DESCRIPTION: 
URL:https://radargolf.es/event/xxii-torneo-europe-villa-cortes-en-las-americas-golf-tenerife/
LOCATION:GOLF LAS AMÉRICAS
CATEGORIES:OTRAS COMUNIDADES,TORNEOS CANARIAS
END:VEVENT
BEGIN:VEVENT
DTSTART;VALUE=DATE:20250712
DTEND;VALUE=DATE:20250713
DTSTAMP:20260421T191333
CREATED:20240422T192356Z
LAST-MODIFIED:20250706T231733Z
UID:25626-1752278400-1752364799@radargolf.es
SUMMARY:The One Race to Marbella en Rio Real Golf (Málaga)
DESCRIPTION:
URL:https://radargolf.es/event/the-one-race-to-marbella-en-rio-real-golf-malaga/
LOCATION:RIO REAL GOLF
CATEGORIES:ANDALUCÍA,TORNEOS MÁLAGA
END:VEVENT
BEGIN:VEVENT
DTSTART;VALUE=DATE:20250712
DTEND;VALUE=DATE:20250713
DTSTAMP:20260421T191333
CREATED:20240927T232048Z
LAST-MODIFIED:20240927T232048Z
UID:29725-1752278400-1752364799@radargolf.es
SUMMARY:Circuito Noveles en Foressos Golf (Valencia)
DESCRIPTION:
URL:https://radargolf.es/event/circuito-noveles-en-foressos-golf-valencia-11/
LOCATION:FORESSOS GOLF
CATEGORIES:OTRAS COMUNIDADES,TORNEOS C. VALENCIANA,TORNEOS VALENCIA
END:VEVENT
BEGIN:VEVENT
DTSTART;VALUE=DATE:20250712
DTEND;VALUE=DATE:20250713
DTSTAMP:20260421T191333
CREATED:20250611T231404Z
LAST-MODIFIED:20250611T231404Z
UID:35137-1752278400-1752364799@radargolf.es
SUMMARY:Torneo Green Solidario AECC en Guadalhorce Golf (Málaga)
DESCRIPTION:
URL:https://radargolf.es/event/torneo-green-solidario-aecc-en-guadalhorce-golf-malaga/
LOCATION:GUADALHORCE GOLF
CATEGORIES:ANDALUCÍA,TORNEOS MÁLAGA
END:VEVENT
BEGIN:VEVENT
DTSTART;VALUE=DATE:20250712
DTEND;VALUE=DATE:20250714
DTSTAMP:20260421T191333
CREATED:20240116T234603Z
LAST-MODIFIED:20250508T165346Z
UID:22326-1752278400-1752451199@radargolf.es
SUMMARY:Campeonato de Andalucía Sub 16 y Benjamín P&P RFAG en Benalmádena Golf (Málaga)
DESCRIPTION:Más información e inscripción en el siguiente ENLACE \n  \n 
URL:https://radargolf.es/event/campeonato-de-andalucia-sub-16-y-benjamin-pp-en-benalmadena-golf-malaga/
LOCATION:BENALMÁDENA GOLF
CATEGORIES:ANDALUCÍA,TORNEOS MÁLAGA
END:VEVENT
END:VCALENDAR