BEGIN:VCALENDAR
VERSION:2.0
PRODID:-//radargolf - ECPv6.15.14//NONSGML v1.0//EN
CALSCALE:GREGORIAN
METHOD:PUBLISH
X-ORIGINAL-URL:https://radargolf.es
X-WR-CALDESC:Eventos para radargolf
REFRESH-INTERVAL;VALUE=DURATION:PT1H
X-Robots-Tag:noindex
X-PUBLISHED-TTL:PT1H
BEGIN:VTIMEZONE
TZID:Europe/Madrid
BEGIN:DAYLIGHT
TZOFFSETFROM:+0100
TZOFFSETTO:+0200
TZNAME:CEST
DTSTART:20240331T010000
END:DAYLIGHT
BEGIN:STANDARD
TZOFFSETFROM:+0200
TZOFFSETTO:+0100
TZNAME:CET
DTSTART:20241027T010000
END:STANDARD
BEGIN:DAYLIGHT
TZOFFSETFROM:+0100
TZOFFSETTO:+0200
TZNAME:CEST
DTSTART:20250330T010000
END:DAYLIGHT
BEGIN:STANDARD
TZOFFSETFROM:+0200
TZOFFSETTO:+0100
TZNAME:CET
DTSTART:20251026T010000
END:STANDARD
BEGIN:DAYLIGHT
TZOFFSETFROM:+0100
TZOFFSETTO:+0200
TZNAME:CEST
DTSTART:20260329T010000
END:DAYLIGHT
BEGIN:STANDARD
TZOFFSETFROM:+0200
TZOFFSETTO:+0100
TZNAME:CET
DTSTART:20261025T010000
END:STANDARD
END:VTIMEZONE
BEGIN:VEVENT
DTSTART;VALUE=DATE:20250709
DTEND;VALUE=DATE:20250712
DTSTAMP:20260421T191332
CREATED:20230716T191057Z
LAST-MODIFIED:20250624T235206Z
UID:17343-1752019200-1752278399@radargolf.es
SUMMARY:Campeonato Juvenil de Las Palmas en Meloneras Golf (Gran Canaria)
DESCRIPTION:
URL:https://radargolf.es/event/campeonato-juvenil-de-las-palmas-en-meloneras-golf-gran-canaria/
LOCATION:MELONERAS GOLF
CATEGORIES:OTRAS COMUNIDADES,TORNEOS CANARIAS
END:VEVENT
BEGIN:VEVENT
DTSTART;VALUE=DATE:20250710
DTEND;VALUE=DATE:20250713
DTSTAMP:20260421T191332
CREATED:20250518T211723Z
LAST-MODIFIED:20251124T224338Z
UID:34496-1752105600-1752364799@radargolf.es
SUMMARY:Campeonato Absoluto de Vizcaya en Meaztegui Golf (Vizcaya)
DESCRIPTION:
URL:https://radargolf.es/event/campeonato-absoluto-de-vizcaya-en-meaztegui-golf-vizcaya/
LOCATION:MEAZTEGI GOLF
CATEGORIES:OTRAS COMUNIDADES,TORNEOS PAIS VASCO,TORNEOS VIZCAYA
END:VEVENT
BEGIN:VEVENT
DTSTART;VALUE=DATE:20250711
DTEND;VALUE=DATE:20250713
DTSTAMP:20260421T191332
CREATED:20230208T102309Z
LAST-MODIFIED:20250706T225634Z
UID:11884-1752192000-1752364799@radargolf.es
SUMMARY:Torneo Seoane Asesores en Hércules Golf (A Coruña)
DESCRIPTION:
URL:https://radargolf.es/event/torneo-seoane-asesores-en-hercules-golf-a-coruna/
LOCATION:HÉRCULES GOLF
CATEGORIES:OTRAS COMUNIDADES,TORNEOS CORUÑA,TORNEOS GALICIA
END:VEVENT
BEGIN:VEVENT
DTSTART;VALUE=DATE:20250711
DTEND;VALUE=DATE:20250713
DTSTAMP:20260421T191332
CREATED:20250209T111645Z
LAST-MODIFIED:20250708T232904Z
UID:32156-1752192000-1752364799@radargolf.es
SUMMARY:Torneo Big Outlet en Val de Rois Golf (A Coruña)
DESCRIPTION:
URL:https://radargolf.es/event/torneo-big-outlet-en-val-de-rois-golf-a-coruna/
LOCATION:VAL DE ROIS GOLF
CATEGORIES:OTRAS COMUNIDADES,TORNEOS CORUÑA,TORNEOS GALICIA
END:VEVENT
BEGIN:VEVENT
DTSTART;VALUE=DATE:20250711
DTEND;VALUE=DATE:20250714
DTSTAMP:20260421T191332
CREATED:20250508T165017Z
LAST-MODIFIED:20250508T165017Z
UID:34341-1752192000-1752451199@radargolf.es
SUMMARY:Campeonato Andalucía Individual RFAG en Isla Canela Links (Huelva)
DESCRIPTION:Más información e inscripción en el siguiente ENLACE
URL:https://radargolf.es/event/campeonato-andalucia-individual-rfag-en-isla-canela-links-huelva/
LOCATION:ISLA CANELA LINKS
CATEGORIES:ANDALUCÍA,TORNEOS HUELVA
END:VEVENT
END:VCALENDAR