BEGIN:VCALENDAR
VERSION:2.0
PRODID:-//radargolf - ECPv6.15.14//NONSGML v1.0//EN
CALSCALE:GREGORIAN
METHOD:PUBLISH
X-ORIGINAL-URL:https://radargolf.es
X-WR-CALDESC:Eventos para radargolf
REFRESH-INTERVAL;VALUE=DURATION:PT1H
X-Robots-Tag:noindex
X-PUBLISHED-TTL:PT1H
BEGIN:VTIMEZONE
TZID:Europe/Madrid
BEGIN:DAYLIGHT
TZOFFSETFROM:+0100
TZOFFSETTO:+0200
TZNAME:CEST
DTSTART:20240331T010000
END:DAYLIGHT
BEGIN:STANDARD
TZOFFSETFROM:+0200
TZOFFSETTO:+0100
TZNAME:CET
DTSTART:20241027T010000
END:STANDARD
BEGIN:DAYLIGHT
TZOFFSETFROM:+0100
TZOFFSETTO:+0200
TZNAME:CEST
DTSTART:20250330T010000
END:DAYLIGHT
BEGIN:STANDARD
TZOFFSETFROM:+0200
TZOFFSETTO:+0100
TZNAME:CET
DTSTART:20251026T010000
END:STANDARD
BEGIN:DAYLIGHT
TZOFFSETFROM:+0100
TZOFFSETTO:+0200
TZNAME:CEST
DTSTART:20260329T010000
END:DAYLIGHT
BEGIN:STANDARD
TZOFFSETFROM:+0200
TZOFFSETTO:+0100
TZNAME:CET
DTSTART:20261025T010000
END:STANDARD
END:VTIMEZONE
BEGIN:VEVENT
DTSTART;VALUE=DATE:20250708
DTEND;VALUE=DATE:20250709
DTSTAMP:20260421T191217
CREATED:20250424T232411Z
LAST-MODIFIED:20250424T232411Z
UID:34004-1751932800-1752019199@radargolf.es
SUMMARY:Circuito World Amateur Golfers Championship en Encín Golf (Madrid)
DESCRIPTION:
URL:https://radargolf.es/event/circuito-world-amateur-golfers-championship-en-encin-golf-madrid-3/
LOCATION:ENCÍN GOLF
CATEGORIES:OTRAS COMUNIDADES,TORNEOS MADRID
END:VEVENT
BEGIN:VEVENT
DTSTART;VALUE=DATE:20250708
DTEND;VALUE=DATE:20250709
DTSTAMP:20260421T191217
CREATED:20250521T215406Z
LAST-MODIFIED:20250521T215406Z
UID:34649-1751932800-1752019199@radargolf.es
SUMMARY:Corporate League en la Dehesa Golf (Madrid)
DESCRIPTION:
URL:https://radargolf.es/event/corporate-league-en-la-dehesa-golf-madrid-4/
LOCATION:GOLF LA DEHESA
CATEGORIES:OTRAS COMUNIDADES,TORNEOS MADRID
END:VEVENT
END:VCALENDAR