BEGIN:VCALENDAR
VERSION:2.0
PRODID:-//radargolf - ECPv6.15.14//NONSGML v1.0//EN
CALSCALE:GREGORIAN
METHOD:PUBLISH
X-ORIGINAL-URL:https://radargolf.es
X-WR-CALDESC:Eventos para radargolf
REFRESH-INTERVAL;VALUE=DURATION:PT1H
X-Robots-Tag:noindex
X-PUBLISHED-TTL:PT1H
BEGIN:VTIMEZONE
TZID:Europe/Madrid
BEGIN:DAYLIGHT
TZOFFSETFROM:+0100
TZOFFSETTO:+0200
TZNAME:CEST
DTSTART:20240331T010000
END:DAYLIGHT
BEGIN:STANDARD
TZOFFSETFROM:+0200
TZOFFSETTO:+0100
TZNAME:CET
DTSTART:20241027T010000
END:STANDARD
BEGIN:DAYLIGHT
TZOFFSETFROM:+0100
TZOFFSETTO:+0200
TZNAME:CEST
DTSTART:20250330T010000
END:DAYLIGHT
BEGIN:STANDARD
TZOFFSETFROM:+0200
TZOFFSETTO:+0100
TZNAME:CET
DTSTART:20251026T010000
END:STANDARD
BEGIN:DAYLIGHT
TZOFFSETFROM:+0100
TZOFFSETTO:+0200
TZNAME:CEST
DTSTART:20260329T010000
END:DAYLIGHT
BEGIN:STANDARD
TZOFFSETFROM:+0200
TZOFFSETTO:+0100
TZNAME:CET
DTSTART:20261025T010000
END:STANDARD
END:VTIMEZONE
BEGIN:VEVENT
DTSTART;VALUE=DATE:20250704
DTEND;VALUE=DATE:20250707
DTSTAMP:20260421T191327
CREATED:20240423T221943Z
LAST-MODIFIED:20250518T210842Z
UID:25724-1751587200-1751846399@radargolf.es
SUMMARY:Torneo de Las Banderas en Balneario de Mondariz Golf (Pontevedra)
DESCRIPTION:
URL:https://radargolf.es/event/torneo-de-las-banderas-en-balneario-de-mondariz-golf-pontevedra/
LOCATION:BALNEARIO DE MONDARIZ GOLF
CATEGORIES:OTRAS COMUNIDADES,TORNEOS GALICIA,TORNEOS PONTEVEDRA
END:VEVENT
BEGIN:VEVENT
DTSTART;VALUE=DATE:20250705
DTEND;VALUE=DATE:20250706
DTSTAMP:20260421T191327
CREATED:20240411T060145Z
LAST-MODIFIED:20250608T105941Z
UID:25288-1751673600-1751759999@radargolf.es
SUMMARY:Audi Quattro Cup en Son Antem Golf (Mallorca)
DESCRIPTION:
URL:https://radargolf.es/event/audi-quattro-cup-en-son-antem-golf-mallorca/
LOCATION:SON ANTEM GOLF
CATEGORIES:OTRAS COMUNIDADES,TORNEOS BALEARES
END:VEVENT
BEGIN:VEVENT
DTSTART;VALUE=DATE:20250705
DTEND;VALUE=DATE:20250706
DTSTAMP:20260421T191327
CREATED:20230501T083908Z
LAST-MODIFIED:20250618T225640Z
UID:14694-1751673600-1751759999@radargolf.es
SUMMARY:IV Torneo Benéfico Nuevo Futuro en Costa Ballena Ocean Golf (Cádiz)
DESCRIPTION:
URL:https://radargolf.es/event/torneo-benefico-nuevo-futuro-en-costa-ballena-ocean-golf-cadiz/
LOCATION:COSTA BALLENA OCEAN CLUB
CATEGORIES:ANDALUCÍA,TORNEOS CÁDIZ
END:VEVENT
BEGIN:VEVENT
DTSTART;VALUE=DATE:20250705
DTEND;VALUE=DATE:20250706
DTSTAMP:20260421T191327
CREATED:20230511T212407Z
LAST-MODIFIED:20250625T000337Z
UID:15148-1751673600-1751759999@radargolf.es
SUMMARY:Torneo Cruzcampo en Nuevo Portil Golf (Huelva)
DESCRIPTION:
URL:https://radargolf.es/event/torneo-cruzcampo-radler-en-nuevo-portil-golf-huelva/
LOCATION:GOLF NUEVO PORTIL
CATEGORIES:ANDALUCÍA,TORNEOS HUELVA
END:VEVENT
BEGIN:VEVENT
DTSTART;VALUE=DATE:20250705
DTEND;VALUE=DATE:20250706
DTSTAMP:20260421T191327
CREATED:20230516T113036Z
LAST-MODIFIED:20250608T223056Z
UID:15494-1751673600-1751759999@radargolf.es
SUMMARY:XXIX Trofeo El Comercio Abanca en Cierro Grande Golf (Asturias)
DESCRIPTION:
URL:https://radargolf.es/event/xxix-trofeo-el-comercio-abanca-en-cierro-grande-golf-asturias/
LOCATION:CIERRO GRANDE GOLF
CATEGORIES:OTRAS COMUNIDADES,TORNEOS ASTURIAS
END:VEVENT
BEGIN:VEVENT
DTSTART;VALUE=DATE:20250705
DTEND;VALUE=DATE:20250706
DTSTAMP:20260421T191327
CREATED:20230601T141607Z
LAST-MODIFIED:20250618T222433Z
UID:16041-1751673600-1751759999@radargolf.es
SUMMARY:Torneo AECC en El Valle Golf (Murcia)
DESCRIPTION:
URL:https://radargolf.es/event/torneo-aecc-en-el-valle-golf-murcia/
LOCATION:EL VALLE GOLF
CATEGORIES:OTRAS COMUNIDADES,TORNEOS MURCIA
END:VEVENT
BEGIN:VEVENT
DTSTART;VALUE=DATE:20250705
DTEND;VALUE=DATE:20250706
DTSTAMP:20260421T191327
CREATED:20250528T221453Z
LAST-MODIFIED:20250630T223148Z
UID:34734-1751673600-1751759999@radargolf.es
SUMMARY:VIII Copa Marau Beach Club en Valle del Este Golf (Almería)
DESCRIPTION:
URL:https://radargolf.es/event/viii-copa-marau-beach-club-en-valle-del-este-golf-almeria/
LOCATION:VALLE DEL ESTE GOLF
CATEGORIES:ANDALUCÍA,TORNEOS ALMERÍA
END:VEVENT
BEGIN:VEVENT
DTSTART;VALUE=DATE:20250705
DTEND;VALUE=DATE:20250706
DTSTAMP:20260421T191327
CREATED:20250625T001327Z
LAST-MODIFIED:20250625T001350Z
UID:35375-1751673600-1751759999@radargolf.es
SUMMARY:XXIX Torneo Social Torrelavega Club de Golf en Nestares Golf (Cantabria)
DESCRIPTION:
URL:https://radargolf.es/event/xxix-torneo-social-en-nestares-golf-cantabria/
LOCATION:NESTARES GOLF
CATEGORIES:OTRAS COMUNIDADES,TORNEOS CANTABRIA
END:VEVENT
END:VCALENDAR